BEGIN:VCALENDAR
VERSION:2.0
PRODID:-//Frontex Referendum - ECPv5.14.2.1//NONSGML v1.0//EN
CALSCALE:GREGORIAN
METHOD:PUBLISH
X-WR-CALNAME:Frontex Referendum
X-ORIGINAL-URL:https://frontex-referendum.ch
X-WR-CALDESC:Veranstaltungen für Frontex Referendum
REFRESH-INTERVAL;VALUE=DURATION:PT1H
X-Robots-Tag:noindex
X-PUBLISHED-TTL:PT1H
BEGIN:VTIMEZONE
TZID:Europe/Zurich
BEGIN:DAYLIGHT
TZOFFSETFROM:+0100
TZOFFSETTO:+0200
TZNAME:CEST
DTSTART:20220327T010000
END:DAYLIGHT
BEGIN:STANDARD
TZOFFSETFROM:+0200
TZOFFSETTO:+0100
TZNAME:CET
DTSTART:20221030T010000
END:STANDARD
END:VTIMEZONE
BEGIN:VEVENT
DTSTART;TZID=Europe/Zurich:20220429T183000
DTEND;TZID=Europe/Zurich:20220429T203000
DTSTAMP:20220515T080153
CREATED:20220406T233836Z
LAST-MODIFIED:20220417T153216Z
UID:4942-1651257000-1651264200@frontex-referendum.ch
SUMMARY:Info: Frontex und die EU-Abschottungspolitik – Das Beispiel Libyen\, Basel
DESCRIPTION:Frontex\, Abschottung im Namen der EU: die zentrale Mittelmeerroute \n\n\n\nDie EU-Grenzagentur Frontex spielt eine wichtige Rolle bei der Aufrüstung und Auslagerung der europäischen Aussengrenzen. So auch im zentralen Mittelmeer\, das zwischen Libyen und Italien seit Jahren eine wichtige Migrationsroute in Richtung Europa darstellt. Frontex spürt dort per Luftüberwachung Boote mit Geflüchteten nach Europa auf und informiert dann eine aus EU-Mitteln geschaffene Leitstelle der «Küstenwache» in Libyen. Über diese Hintertür lässt die EU tausende Menschen jährlich nach Libyen zurückschleppen. Diese Strategie der «Pullbacks» wird nun systematisch ausgebaut und auf andere Länder ausgeweitet.  \n\n\n\nWie hilft Frontex der sogenannten libyschen Küstenwache\, Menschen auf ihrem Weg nach Europa abzufangen? Diese und weitere Fragen stehen im Zentrum dieser Infoveranstaltung. Die drei Referent:innen beschreiben die Bedeutung der Fluchtroute im zentralen Mittelmeer \n\n\n\nReferent:innen  \n\n\n\nBritta Rabe (Watch the Med Alarmphone\, Central Med Regional Team)Matthias Monroy (Netzaktivist; Redakteur der Zeitschrift CILIP/Bürgerrechte & Polizei) Ein:e Vertreter:in des eritreischen Medienbundes (wird noch angekündigt)\n\n\n\nEine Veranstaltung der Infotour «Frontex und die Festung EUropa» von SoSF \n\n\n\nVeranstaltungskalender NoFrontex Basel \n\n\n\n\n\n\n\nZeit: \n\n\n\n\n\n\n\nOrt: \n\n\n\nGewerkschaftshaus BaselRebgasse 14058 Basel \n\n\n\nGoogle Maps \n\n\n\n\n\nVeranstalted durch: \n\n\n\nSolidarité sans frontièresEritreischer Medienbund SchweizGrundrechtekomitee e.V. \n\n\n\n\n\n\nZu Kalender hinzufügen:
URL:https://frontex-referendum.ch/event/frontex-und-die-eu-abschottungspolitik-das-beispiel-libyen-basel/
LOCATION:Gewerkschaftshaus Basel\, Rebgasse 1\, Basel\, 4058\, Schweiz
CATEGORIES:Infoveranstaltung
END:VEVENT
END:VCALENDAR