BEGIN:VCALENDAR
VERSION:2.0
PRODID:-//Frontex Referendum - ECPv5.14.2.1//NONSGML v1.0//EN
CALSCALE:GREGORIAN
METHOD:PUBLISH
X-WR-CALNAME:Frontex Referendum
X-ORIGINAL-URL:https://frontex-referendum.ch
X-WR-CALDESC:Veranstaltungen für Frontex Referendum
REFRESH-INTERVAL;VALUE=DURATION:PT1H
X-Robots-Tag:noindex
X-PUBLISHED-TTL:PT1H
BEGIN:VTIMEZONE
TZID:Europe/Zurich
BEGIN:DAYLIGHT
TZOFFSETFROM:+0100
TZOFFSETTO:+0200
TZNAME:CEST
DTSTART:20220327T010000
END:DAYLIGHT
BEGIN:STANDARD
TZOFFSETFROM:+0200
TZOFFSETTO:+0100
TZNAME:CET
DTSTART:20221030T010000
END:STANDARD
END:VTIMEZONE
BEGIN:VEVENT
DTSTART;TZID=Europe/Zurich:20220426T200000
DTEND;TZID=Europe/Zurich:20220426T220000
DTSTAMP:20220515T075433
CREATED:20220417T095940Z
LAST-MODIFIED:20220417T224353Z
UID:5583-1651003200-1651010400@frontex-referendum.ch
SUMMARY:Info: Les enjeux féministes du régime des frontières européen et de Frontex.
DESCRIPTION:Soirée d’information sur Frontex et les enjeux féministes\, organisée par le Collectif neuchâtelois pour la grève féministe avec Sophie Guignard\, de Solidarité sans frontières. \n\n\n\nUn événement de l’Infotour «Frontex et la forteresse EUrope» de SoSF \n\n\n\n\n\n\n\nQuand: \n\n\n\n\n\n\n\nLieu: \n\n\n\nCafé de l’ABC\, 1er étageRue du Coq 112300 La Chaux-de-Fonds \n\n\n\nGoogle Maps \n\n\n\n\n\nOrganisée par: \n\n\n\nCollectif neuchâtelois pour la grève féministeSolidarité sans frontières \n\n\n\n\n\n\nAjouter au calendrier:
URL:https://frontex-referendum.ch/event/info-les-enjeux-feministes-du-regime-des-frontieres-europeen-et-de-frontex/
LOCATION:Café de l’ABC\, Rue du Coq 11\, La Chaux-de-Fonds\, 2300\, Schweiz
CATEGORIES:Infoveranstaltung
END:VEVENT
END:VCALENDAR