BEGIN:VCALENDAR
VERSION:2.0
PRODID:-//Frontex Referendum - ECPv5.14.2.1//NONSGML v1.0//EN
CALSCALE:GREGORIAN
METHOD:PUBLISH
X-WR-CALNAME:Frontex Referendum
X-ORIGINAL-URL:https://frontex-referendum.ch
X-WR-CALDESC:Veranstaltungen für Frontex Referendum
REFRESH-INTERVAL;VALUE=DURATION:PT1H
X-Robots-Tag:noindex
X-PUBLISHED-TTL:PT1H
BEGIN:VTIMEZONE
TZID:Europe/Zurich
BEGIN:DAYLIGHT
TZOFFSETFROM:+0100
TZOFFSETTO:+0200
TZNAME:CEST
DTSTART:20220327T010000
END:DAYLIGHT
BEGIN:STANDARD
TZOFFSETFROM:+0200
TZOFFSETTO:+0100
TZNAME:CET
DTSTART:20221030T010000
END:STANDARD
END:VTIMEZONE
BEGIN:VEVENT
DTSTART;TZID=Europe/Zurich:20220428T190000
DTEND;TZID=Europe/Zurich:20220428T210000
DTSTAMP:20220515T075342
CREATED:20220417T230136Z
LAST-MODIFIED:20220417T230635Z
UID:5690-1651172400-1651179600@frontex-referendum.ch
SUMMARY:Aktion: Was Klimagerechtigkeit mit einer solidarischen Migrationspolitik zu tun hat
DESCRIPTION:Gemeinsames Postkartenschreiben mit einem Input der Bewegung für Sozialismus (BFS) zum Zusammenhang von Klimagerechtigkeit und der Forderung nach Bewegungsfreiheit für Alle. Miriam Kahn hat ein Bild gegen das Sterben im Mittelmeer gedruckt\, welches als Postkarte aufliegen wird. Mit persönlichen Briefen wollen wir unsere Freund:innen für die Abstimmung am 15. Mai mobilisieren. \n\n\n\nEvent-Website \n\n\n\nVeranstaltungskalender NoFrontex Basel \n\n\n\n\n\n\n\nZeit: \n\n\n\n\n\n\n\nOrt: \n\n\n\nBFS-LokalHammerstrasse 1784057 Basel \n\n\n\nGoogle Maps \n\n\n\n\n\nVeranstalted durch: \n\n\n\nBewegung für den Sozialismus BFSBastA! \n\n\n\n\n\n\nZu Kalender hinzufügen:
URL:https://frontex-referendum.ch/event/aktion-was-klimagerechtigkeit-mit-einer-solidarischen-migrationspolitik-zu-tun-hat/
LOCATION:BFS-Lokal\, Hammerstrasse 178\, Basel\, 4057\, Schweiz
CATEGORIES:Aktion
END:VEVENT
END:VCALENDAR