BEGIN:VCALENDAR
VERSION:2.0
PRODID:-//Frontex Referendum - ECPv5.14.2.1//NONSGML v1.0//EN
CALSCALE:GREGORIAN
METHOD:PUBLISH
X-WR-CALNAME:Frontex Referendum
X-ORIGINAL-URL:https://frontex-referendum.ch
X-WR-CALDESC:Veranstaltungen für Frontex Referendum
REFRESH-INTERVAL;VALUE=DURATION:PT1H
X-Robots-Tag:noindex
X-PUBLISHED-TTL:PT1H
BEGIN:VTIMEZONE
TZID:Europe/Zurich
BEGIN:DAYLIGHT
TZOFFSETFROM:+0100
TZOFFSETTO:+0200
TZNAME:CEST
DTSTART:20220327T010000
END:DAYLIGHT
BEGIN:STANDARD
TZOFFSETFROM:+0200
TZOFFSETTO:+0100
TZNAME:CET
DTSTART:20221030T010000
END:STANDARD
END:VTIMEZONE
BEGIN:VEVENT
DTSTART;TZID=Europe/Zurich:20220513T183000
DTEND;TZID=Europe/Zurich:20220513T203000
DTSTAMP:20220515T075307
CREATED:20220417T234911Z
LAST-MODIFIED:20220425T164403Z
UID:5713-1652466600-1652473800@frontex-referendum.ch
SUMMARY:Table ronde: « L’Europe\, eaux-frontières et villes-refuges »
DESCRIPTION:Table ronde « L’Europe\, eaux-frontières et villes-refuges » avec Charles Heller\, chercheur et vidéaste spécialiste des politiques migratoires aux frontières maritimes de l’Europe\, co-directeur de l’ONG Border Forensics et co-président du réseau Migreurop\, et Claude Braun\, membre du comité de Solidarité sans frontières et du Forum Civique Européen. Précédée d’un court film\, suivie d’un repas à prix libre. \n\n\n\nEvent-Website \n\n\n\nTous les évènements à Neuchâtel (PDF) \n\n\n\n\n\n\n\nQuand: \n\n\n\n\n\n\n\nLieu: \n\n\n\nL’AMARRue de la Coquemène 1Neuchâtel\, 2000Schweiz \n\n\n\nGoogle Maps \n\n\n\n\n\nOrganisée par: \n\n\n\nL’AMARL’Antenne Neuchâtel de SOS Méditerranée Suisse \n\n\n\n\n\n\nAjouter au calendrier:
URL:https://frontex-referendum.ch/event/table-ronde-leurope-eaux-frontieres-et-villes-refuges/
LOCATION:L’AMAR\, Rue de la Coquemène 1\, Neuchâtel\, 2000\, Schweiz
CATEGORIES:Infoveranstaltung,Podium
END:VEVENT
BEGIN:VEVENT
DTSTART;TZID=Europe/Zurich:20220506T190000
DTEND;TZID=Europe/Zurich:20220506T210000
DTSTAMP:20220515T075307
CREATED:20220417T233358Z
LAST-MODIFIED:20220417T233633Z
UID:5706-1651863600-1651870800@frontex-referendum.ch
SUMMARY:Discussion: « Frontex: quelle politique aux frontières de l’Europe? »
DESCRIPTION:Le 15 mai prochain le peuple suisse votera sur l’augmentation de la contribution suisse au budget de Frontex qui passera de 24 millions de CHF en 2021 à 61 millions en 2027. C’est quoi Frontex ? C’est l’agence européenne de garde-frontières et garde-côtes\, qui se trouve actuellement sous le feu des critiques pour son rôle dans des violations des droits fondamentaux des exilé·e·s aux frontières externes de l’Europe. La guerre en Ukraine\, qui a forcé des millions de personnes à fuir vers les pays européens voisins\, rend la question de la gestion des frontières et de la politique migratoire européenne d’autant plus actuelle. Comment les frontières externes sont-elles gérées ? Et quel est le rôle de Frontex et de la Suisse là-dedans? Pourquoi le référendum contre l’augmentation de la contribution suisse a-t-il été lancé et quelles seraient les conséquences d’un NON le 15 mai? \n\n\n\nPour apporter des éléments de réponses à ces questions\, Droit de rester\, en collaboration avec Solidarité sans frontières\, vous invitent à une soirée de discussion autour des enjeux de la votation sur Frontex et sur la nécessité de repenser la politique migratoire européenne\, ainsi que le rôle de la Suisse dans celle-ci. \n\n\n\n\n\n\n\nAvec des interventions de : \n\n\n\nAda Marra\, Conseillère nationale\, Parti SocialisteKiri Santer\, chercheuse en migration\, Université de BerneGuy Zurkinden\, Rédacteur du journal Services Publics\, du Syndicat des services publics Gouled Moussa Daher\, réfugié somalien\, interprète communautaireGraziella de Coulon\, militante pour le droit d’asile\, Droit de rester\n\n\n\n\n\n\n\nUn événement de l’Infotour «Frontex et la forteresse EUrope» de SoSF \n\n\n\nSite web de l’événement \n\n\n\n\n\n\n\nQuand: \n\n\n\n\n\n\n\nLieu: \n\n\n\nPôle SudAvenue Jean-Jacques Mercier 31003 Lausanne \n\n\n\nGoogle Maps \n\n\n\n\n\nOrganisée par: \n\n\n\nDroit de resterSolidarité sans frontières \n\n\n\n\n\n\nAjouter au calendrier:
URL:https://frontex-referendum.ch/event/discussion-frontex-quelle-politique-aux-frontieres-de-leurope/
LOCATION:Pôle Sud\, Avenue Jean-Jacques Mercier 3\, Lausanne\, 1003\, Schweiz
CATEGORIES:Infoveranstaltung,Podium
END:VEVENT
BEGIN:VEVENT
DTSTART;TZID=Europe/Zurich:20220506T183000
DTEND;TZID=Europe/Zurich:20220506T220000
DTSTAMP:20220515T075307
CREATED:20220417T153926Z
LAST-MODIFIED:20220504T180340Z
UID:5631-1651861800-1651874400@frontex-referendum.ch
SUMMARY:Pizza\, Input und Diskussion: Klimagerechtigkeit\, Migration & Widerstand
DESCRIPTION:Rund um die NoFrontex-Abstimmung und Basel2030 bringen wir die Themen Migration und Klimagerechtigkeit zusammen. Wir wollen gemeinsam solidarische Strukturen und kollektive Lösungen finden und so die eigene Machtlosigkeit und Ohnmacht hinter uns lassen! \n\n\n\nAb 18:30: Pizza \n\n\n\nAb 20:00: Input zu Klimagerechtigkeit und NoFrontex-Referendum\, mit anschliessender Diskussion \n\n\n\nFlyer \n\n\n\n\n\n\n\nZeit: \n\n\n\n\n\n\n\nOrt: \n\n\n\nMattenstrasse 74/764057 Basel \n\n\n\nGoogle Maps \n\n\n\n\n\nVeranstalted durch: \n\n\n\nBasel2030Stadt für AlleFreiplatzaktion Basel \n\n\n\n\n\n\nZu Kalender hinzufügen:
URL:https://frontex-referendum.ch/event/pizza-und-diskussion-klimagerechtigkeit-migration-widerstand/
LOCATION:Mattenstrasse 74/76\, Mattenstrasse 74/76\, Basel\, 4058\, Schweiz
CATEGORIES:Kultur,Podium
END:VEVENT
BEGIN:VEVENT
DTSTART;TZID=Europe/Zurich:20220505T191500
DTEND;TZID=Europe/Zurich:20220505T210000
DTSTAMP:20220515T075307
CREATED:20220412T004128Z
LAST-MODIFIED:20220504T100120Z
UID:5361-1651778100-1651784400@frontex-referendum.ch
SUMMARY:Podium: Frontex – eine Podiumsdiskussion mit Erik Marquardt
DESCRIPTION:Im Mai stimmen wir über das Frontex-Referendum ab. Wieso finanziert die Schweiz eine Europäische Grenzschutzagentur? Was sind die Aufgaben von Frontex und was die grössten Probleme? Wie sieht die Migrationspolitik der Zukunft aus? \n\n\n\nÜber diese Fragen diskutieren folgende Podiumsteilnehmende: \n\n\n\nErik Marquardt: Europaparlamentarier und Frontex-ExperteAresu Rabbani: Delegierte SP-Migrant:innenEmirhan Darcan: Wissenschaftl. MitarbeiterMarionna Schlatter: Nationalrätin GRÜNE\n\n\n\nModeration: Julia Küng \n\n\n\nMit anschliessendem Apéro \n\n\n\nEvent-Website \n\n\n\nSitzplatz-Reservation (optional) \n\n\n\nLivestream \n\n\n\n\n\n\n\nZeit: \n\n\n\n\n\n\n\nOrt: \n\n\n\nSalzhaus BruggSchulthess-Allee 255200 Brugg(rollstuhlgängig) \n\n\n\nGoogle Maps \n\n\n\nOnline (Livestream) \n\n\n\n\n\nVeranstalted durch: \n\n\n\nJunge Grüne SchweizNoFrontex-Komitee Aargau \n\n\n\n\n\n\nZu Kalender hinzufügen:
URL:https://frontex-referendum.ch/event/podium-frontex-eine-podiumsdiskussion-mit-erik-marquardt/
LOCATION:Salzhaus Brugg\, Schulthess-Allee 25\, Brugg\, 5200\, Schweiz
CATEGORIES:Podium
ORGANIZER;CN="NoFrontex%20Referendum":MAILTO:frontex-referendum@immerda.ch
END:VEVENT
BEGIN:VEVENT
DTSTART;TZID=Europe/Zurich:20220504T200000
DTEND;TZID=Europe/Zurich:20220504T213000
DTSTAMP:20220515T075307
CREATED:20220428T235845Z
LAST-MODIFIED:20220503T221430Z
UID:6074-1651694400-1651699800@frontex-referendum.ch
SUMMARY:Info: Göçün Anatomisi/İsviçre Göçmen Politikası ve Frontex Refereandumu
DESCRIPTION:Frontex nedir? Nasıl ve neden ortaya çıkmıştır? Frontex referandumu neden yapılıyor? Bu referandum biz göçmenler için neden önemlidir? bu soruların cevaplarını programda bulacaksınız. \n\n\n\nWir sind zu Gast in der Sendung Anatomie der Einwanderung von Yusuf Demir auf Komün TV. Konuklar: \n\n\n\nMelek Altın: İsviçre Demokratik Haklar Federasyonu Dönem SözcüsüEmrah Bal: ROTA-göçmen öz örgütlenmesi üyesiÖzgür Türk: Pangeakolektif kurucu üyesi\n\n\n\nEtkinlik web sitesi \n\n\n\n\n\n\n\nZaman: \n\n\n\nAvrupa saati ile:  \n\n\n\n\n\nİngiltere saati ile: 19:00Türkiye saati ile: 21:00 \n\n\n\n\n\nYer: \n\n\n\nYouTube Canlı Yayin \n\n\n\nGoogle Maps \n\n\n\n\n\nOrganizatör: \n\n\n\nPangea KolektifKomün TV \n\n\n\n\n\n\nTakvime ekle:
URL:https://frontex-referendum.ch/event/tartisma-goecuen-anatomisi-isvicre-goecmen-politikasi-ve-frontex-refereandumu/
CATEGORIES:Podium
END:VEVENT
BEGIN:VEVENT
DTSTART;TZID=Europe/Zurich:20220504T200000
DTEND;TZID=Europe/Zurich:20220504T220000
DTSTAMP:20220515T075307
CREATED:20220421T023333Z
LAST-MODIFIED:20220421T023336Z
UID:5857-1651694400-1651701600@frontex-referendum.ch
SUMMARY:Podium und Lesung: Die Frontex-Protokolle – Auszüge – Zeugnisse von Menschenrechtsverletzungen
DESCRIPTION:Im Frontex-Abstimmungskampf verdrängt der politische Disput rund um das Verhältnis der Schweiz zur EU die Auseinandersetzung mit der menschengemachten Tragödie\, die sich tagtäglich an den EU-Aussengrenzen abspielt. \n\n\n\n«Die Frontex-Protokolle» lässt die Zeugnisse des Grenzregimes für sich sprechen. Schauspieler:innen des Neumarkt lesen aus den Flucht-Protokollen vor\, die die systematische Entrechtung an Einzelschicksalen bezeugen und Saule Yerkebayeva\, die einst selbst die Festungsmauern des Kontinents überwunden hat\, ergreift das Wort. Was löst die Volksabstimmung bei ihr aus und wie reagiert sie auf die Bilder hilfsbereiter Frontex-Mitarbeitenden\, die an der ukrainischen Grenze Teddybären verteilten? Gemeinsam mit Philippe Blanc vom Migration Solidarity Network und Fiona Chiappori spricht sie über den Zustand und die Frage\, wohin sich die Zukunft entwickelt – Gibt es Hoffnung? \n\n\n\n\n\n\n\nTeilnehmende:  \n\n\n\nPhilippe BlancFiona ChiapporiSaule Yerkebayeva\n\n\n\nModeration Nikolai Eneas Prawdzic \n\n\n\nEvent-Website \n\n\n\n\n\n\n\nZeit: \n\n\n\n\n\n\n\nOrt: \n\n\n\nTheater am NeumarktNeumarkt 58001 Zürich \n\n\n\nGoogle Maps \n\n\n\n\n\nVeranstalted durch: \n\n\n\nTheater am Neumarkt \n\n\n\n\n\n\nZu Kalender hinzufügen:
URL:https://frontex-referendum.ch/event/podium-und-lesung-die-frontex-protokolle-auszuege-zeugnisse-von-menschenrechtsverletzungen/
LOCATION:Theater am Neumarkt\, Neumarkt 5\, Zürich\, 8001\, Schweiz
CATEGORIES:Kultur,Podium
END:VEVENT
BEGIN:VEVENT
DTSTART;TZID=Europe/Zurich:20220503T194500
DTEND;TZID=Europe/Zurich:20220503T214500
DTSTAMP:20220515T075307
CREATED:20220424T174502Z
LAST-MODIFIED:20220424T174503Z
UID:5961-1651607100-1651614300@frontex-referendum.ch
SUMMARY:Podium: No Frontex – Ein Gespräch über das europäische Grenzregime
DESCRIPTION:Im September 2021 stimmte das Parlament für eine Erhöhung der jährlichen Zahlungen an die europäische Grenzschutzagentur Frontex von bisher 14 auf 61 Millionen Schweizer Franken. Gegen den Entscheid wurde von Basisgruppen das Referendum ergriffen\, über das am 15. Mai abgestimmt wird. Im Gespräch mit «WOZ»-Redaktor Kaspar Surber spricht die deutsche Kapitänin und Aktivistin Carola Rackete über das europäische Grenzregime\, Menschenrechtsverletzungen durch Frontex und ihre Erfahrungen mit den illegalen Praktiken der Behörden. \n\n\n\nDieser Anlass ist Teil der NoFrontex-Busreise. \n\n\n\nEvent-Website \n\n\n\n\n\n\n\nZeit: \n\n\n\n\n\n\n\nOrt: \n\n\n\nPalaceZwinglistrasse 3Blumenbergplatz9000 St. Gallen \n\n\n\nGoogle Maps \n\n\n\n\n\nVeranstalted durch: \n\n\n\nVeranstalterin \n\n\n\n\n\n\nZu Kalender hinzufügen:
URL:https://frontex-referendum.ch/event/podium-no-frontex-ein-gespraech-ueber-das-europaeische-grenzregime/
LOCATION:Palace\, Zwinglistrasse 3\, St. Gallen\, 9000\, Schweiz
CATEGORIES:Podium
END:VEVENT
BEGIN:VEVENT
DTSTART;TZID=Europe/Zurich:20220503T190000
DTEND;TZID=Europe/Zurich:20220503T210000
DTSTAMP:20220515T075307
CREATED:20220418T001521Z
LAST-MODIFIED:20220428T214939Z
UID:5726-1651604400-1651611600@frontex-referendum.ch
SUMMARY:Film und Diskussion: Kritischer Kurzfilmabend über das Asylregime
DESCRIPTION:Einen Einblick in das Leben im europäischen und schweizerischen Asylregime geben die Kurzfilme\, welche an diesem Abend gezeigt werden. Anschließend diskutieren wir das NoFrontex-Referendum\, die Perspektiven für eine andere Migrationspolitik und den Auftrag Sozialer Arbeit. \n\n\n\nFlyer \n\n\n\nVeranstaltungskalender NoFrontex Basel \n\n\n\n\n\n\n\nZeit: \n\n\n\n\n\n\n\nOrt: \n\n\n\nJugendzentrum PurpleparkMeret Oppenheim-Strasse 804053 Basel \n\n\n\nGoogle Maps \n\n\n\n\n\nVeranstalted durch: \n\n\n\nKriso BaselStop Racial Profiling Basel \n\n\n\n\n\n\nZu Kalender hinzufügen:
URL:https://frontex-referendum.ch/event/film-und-diskussion-kritischer-kurzfilmabend-ueber-das-asylregime/
LOCATION:Jugendzentrum PurplePark\, Meret Oppenheim-Strasse 80\, Basel\, 4053\, Schweiz
CATEGORIES:Kultur,Podium
END:VEVENT
BEGIN:VEVENT
DTSTART;TZID=Europe/Zurich:20220429T180000
DTEND;TZID=Europe/Zurich:20220429T213000
DTSTAMP:20220515T075307
CREATED:20220417T231656Z
LAST-MODIFIED:20220417T231800Z
UID:5698-1651255200-1651267800@frontex-referendum.ch
SUMMARY:Film et discussion: Samos – The Faces of Our Border
DESCRIPTION:La Jeunesse socialiste jurassienne a le plaisir de t’inviter pour la projection de « Samos – The Faces of Our Border »\, un documentaire tourné dans un camps de réfugié·e·s mettant en lumière l’inhumanité de nos politiques migratoires. \n\n\n\nLa séance sera suivie d’une discussion autour du référendum Frontex – qui sera soumis à votation le 15 mai prochain – en présence de Pierre Alain-Fridez\, conseiller national socialiste\, ainsi que de l’association AJIR – Jura Interactions Rencontres. Finalement\, un apéritif à la sortie de la séance sera offert par le Parti socialiste jurassien et permettra de prolonger les discussions. \n\n\n\nAfin que toutes les personnes intéressées puissent participer\, l’entrée sera libre. L’argent récolté sera intégralement versé à SOS Méditerranée Suisse. \n\n\n\nSi tu souhaites t’informer sur la réalité vécue par de nombreux réfugié·es ou sur l’objet Frontex prochainement soumis à votation\, nous serons heureuses et heureux de te voir à la séance ! \n\n\n\nSite web de l’événement \n\n\n\n\n\n\n\nQuand: \n\n\n\n\n\n\n\nLieu: \n\n\n\nCinémontRue Emile-Boéchat 852800 DelémontSchweiz \n\n\n\nGoogle Maps \n\n\n\n\n\nOrganisée par: \n\n\n\nJeunesse socialiste jurassienne \n\n\n\n\n\n\nAjouter au calendrier:
URL:https://frontex-referendum.ch/event/film-et-discussion-samos-the-faces-of-our-border/
LOCATION:Cinémont à Delémont\, Rue Emile-Boéchat 85\, Delémont\, 2800\, Schweiz
CATEGORIES:Kultur,Podium
END:VEVENT
BEGIN:VEVENT
DTSTART;TZID=Europe/Zurich:20220427T200000
DTEND;TZID=Europe/Zurich:20220427T220000
DTSTAMP:20220515T075307
CREATED:20220417T223847Z
LAST-MODIFIED:20220417T224115Z
UID:5673-1651089600-1651096800@frontex-referendum.ch
SUMMARY:Soirée de discussion avec l’Angle d’attaque
DESCRIPTION:Quelles sont les possibilités et les limites de la politique insititutionnelle? Comment lutter avec un outil\, le référendum\, dont les personnes directement concernées sont\, par définition\, exclues?  \n\n\n\nAvec la présence de Pangea Kollektiv\, une organisation autonome de personnes migrantes. \n\n\n\nUn événement de l’Infotour «Frontex et la forteresse EUrope» de SoSF \n\n\n\n\n\n\n\nQuand: \n\n\n\n\n\n\n\nLieu: \n\n\n\nLa CoutellerieAlte Brunnengasse 11700 Fribourg \n\n\n\nGoogle Maps \n\n\n\n\n\nOrganisée par: \n\n\n\nSolidarité sans frontières \n\n\n\n\n\n\nAjouter au calendrier:
URL:https://frontex-referendum.ch/event/soiree-de-discussion-avec-langle-dattaque/
LOCATION:La Coutellerie\, Alte Brunnengasse 1\, Fribourg\, 1700\, Schweiz
CATEGORIES:Infoveranstaltung,Podium
END:VEVENT
BEGIN:VEVENT
DTSTART;TZID=Europe/Zurich:20220427T193000
DTEND;TZID=Europe/Zurich:20220427T213000
DTSTAMP:20220515T075307
CREATED:20220406T232651Z
LAST-MODIFIED:20220417T101756Z
UID:4932-1651087800-1651095000@frontex-referendum.ch
SUMMARY:Podium: Frontex – an den Grenzen Europas. Menschenrechte verhandelbar?
DESCRIPTION:Was ist und macht Frontex? Warum beteiligt sich die Schweiz an den Kosten? Anlässlich der Abstimmung im Mai zur Aufstockung des schweizerischen Beitrags an der Frontex findet in Halden eine Podiumsdiskussion statt. \n\n\n\nPodiumsteilnehmende \n\n\n\nKaspar Surber (Journalist)Beni Würth (Ständerat)Fabio Zgraggen (Humanitarian Pilots Initiative)Philippe Blanc (Referendumskomitee)\n\n\n\nModeration: Hanspeter Spörri \n\n\n\nEvent-Website \n\n\n\n\n\n\n\nZeit: \n\n\n\n\n\n\n\nOrt: \n\n\n\nÖkumenische Gemeinde Halden\, KircheOberhaldenstrasse 239016 St. Gallen \n\n\n\nGoogle Maps \n\n\n\n\n\n\nZu Kalender hinzufügen:
URL:https://frontex-referendum.ch/event/frontex-an-den-grenzen-europas-menschenrechte-verhandelbar/
LOCATION:Ökumenische Gemeinde Halden\, Oberhalden 23\, St.Gallen\, 9016\, Schweiz
CATEGORIES:Podium
END:VEVENT
BEGIN:VEVENT
DTSTART;TZID=Europe/Zurich:20220427T190000
DTEND;TZID=Europe/Zurich:20220427T210000
DTSTAMP:20220515T075307
CREATED:20220412T233734Z
LAST-MODIFIED:20220424T173023Z
UID:5369-1651086000-1651093200@frontex-referendum.ch
SUMMARY:Podium: Referendum Frontex – Schweiz\, was nun?
DESCRIPTION:Für eine gewaltfreie Migrationspolitik: bezahlen ja oder nein? Wir diskutieren am Politpodium mit Fachleuten. \n\n\n\nFrontex ist verantwortlich für die Sicherung der europäischen Aussengrenzen. Für die Sicherung der Grenzen wohlverstanden\, nicht für die Sicherung der Menschen\, die sie übertreten wollen. Wie lassen sich die bekannt gewordenen gewaltreichen Vorfälle auf dem Balkan oder in der Ägäis mit hiesigem Menschenrechtsverständnis vereinbaren? Wer trägt dafür schliesslich Verantwortung? Geldgeber\, Vorgesetzte\, Täter\, oder…?  \n\n\n\nWie kann die Schweiz ihre Verantwortung wahrnehmen und für eine gewaltfreie europäische Migrationspolitik sorgen? \n\n\n\nReferendum ablehnen und ein zustimmendes Signal zur Festung Europa aussenden? Was geschieht\, wenn das Referendum angenommen wird und die Schweiz die Zahlungen an Frontex nicht erhöht? Kündigung des Schengen-Abkommens? Weitere Gefährdung der Verhandlungen mit Brüssel? Was würde dies für den Wirtschafts- und Forschungsplatz Schweiz bedeuten und würden dadurch Menschenrechtsverletzungen verhindert? \n\n\n\nPodiumsteilnehmende: \n\n\n\nJulia Küng (21) ist Co-Präsidentin der Jungen Grünen Schweiz und engagiert sich für Klimaschutz und globale Solidarität.Prof. Dr. iur. Dr h.c. mult.\, LLM. Thomas Cottier ist Professor für europäisches und internationales Wirtschaftsrecht und forschte zu den Rechtsbeziehungen der Schweiz und der EU. Er ist Mitglied der neuen WTO- Appellationsinstanz und Präsident von «Die Schweiz in Europa».Roger Nyffenegger (29)\, Co-Präsident der jungen GLP Kanton Bern. Er versucht im Rahmen von EU-Horizon neue Geschäftsmodelle\, basierend auf den Grundsätzen der Kreislaufwirtschaft\, in der Solarbranche zu etablieren. Carola Rackete (33) freiwillige Seenotretterin und Naturschutzökologin.\n\n\n\nDieser Anlass ist Teil der NoFrontex-Busreise \n\n\n\nEvent-Website \n\n\n\n\n\n\n\nZeit: \n\n\n\n\n\n\n\nOrt: \n\n\n\nBistro\, Gymnasium ThunStandort SchadauSeestrasse 663604 Thun \n\n\n\nGoogle Maps \n\n\n\n\n\nVeranstalted durch: \n\n\n\n«und» das Generationentandem \n\n\n\n\n\n\nZu Kalender hinzufügen:
URL:https://frontex-referendum.ch/event/podium-referendum-frontex-schweiz-was-nun/
LOCATION:Gymnasium Thun\, Standort Schadau\, Seestrasse 66\, Thun\, 3604\, Schweiz
CATEGORIES:Podium
END:VEVENT
BEGIN:VEVENT
DTSTART;TZID=Europe/Zurich:20220427T190000
DTEND;TZID=Europe/Zurich:20220427T210000
DTSTAMP:20220515T075307
CREATED:20220406T235208Z
LAST-MODIFIED:20220425T135950Z
UID:4946-1651086000-1651093200@frontex-referendum.ch
SUMMARY:Podium: Zur Abstimmung über den Frontex-Ausbau
DESCRIPTION:Im Mai stimmt die Schweiz darüber ab\, ob die Europäische GrenzschutzagenturFrontex neu mit 61 Mio. Franken jährlich finanziert wird. Frontex ist ein Teil der Festung Europa – während sich Europa als Wiege der humanistischen Werte preist\, werden flüchtende Menschen an den EU-Aussengrenzen gewaltsam daran gehindert\, Asyl zu beantragen.  \n\n\n\nDas Podium diskutiert die Rolle von Frontex und die Gründe für eine Ablehnung dieser Vorlage. Podiumsteilnehmende: \n\n\n\nSaeed Farkhonde: Aktivist Stopp Isolation\, MSN; ReferendumskomiteeSelam Habtemariam: Aktivistin Migrant Solidarity Netzwerk (MSN); ReferendumskomiteeJelena Filipovic: Stadträtin GB\, KlimaaktivistinRuth Gaby Vermot: Ehem. National- und Europarätin SP; Präsidentin der Schweizerischen Beobachtungsstelle für Asyl- und Ausländerrecht\n\n\n\nModeration: Anna Lessing: Stadträtin GB\, Leiterin Schweizer Plattform für Friedensförderung KOFF bei swisspeace \n\n\n\nEvent-Website \n\n\n\nFlyer \n\n\n\n\n\n\n\nZeit: \n\n\n\n\n\n\n\nOrt: \n\n\n\nHaus der ReligionenEuropaplatz 13008 Bern \n\n\n\nGoogle Maps \n\n\n\n\n\nVeranstalted durch: \n\n\n\nGrünes Bündnis Bern \n\n\n\n\n\n\nZu Kalender hinzufügen:
URL:https://frontex-referendum.ch/event/podium-zur-abstimmung-ueber-den-frontex-ausbau/
LOCATION:Haus der Religionen\, Europaplatz 1\, Bern\, 3008\, Schweiz
CATEGORIES:Podium
END:VEVENT
BEGIN:VEVENT
DTSTART;TZID=Europe/Zurich:20220427T183000
DTEND;TZID=Europe/Zurich:20220427T213000
DTSTAMP:20220515T075307
CREATED:20220426T085035Z
LAST-MODIFIED:20220426T085037Z
UID:5998-1651084200-1651095000@frontex-referendum.ch
SUMMARY:Podium: Abstimm-Bar zum Frontex-Referendum
DESCRIPTION:Soll sich die Schweiz am geplanten Ausbau des Grenzschutzprogramms durch Frontex beteiligen? Die Europäische Agentur für Grenz- und Küstenwache hat immer wieder aufgrund von Menschenrechtsverletzungen Schlagzeilen gemacht. Braucht es ein Zeichen gegen die Missstände an den EU-Aussengrenzen oder ist eine stärkere finanzielle Beteiligung notwendig\, um die Zusammenarbeit mit Europa fortzuführen und keinen Ausschluss aus Schengen-Dublin zu riskieren? \n\n\n\nPodiumsteilnehmende:  \n\n\n\nThéoda Woeffray\, Doktorandin Uni Bern: Neutraler Input\, die Pro-Argumente werden von Jörg Mäder\, Nationalrat GLP: Pro-Argumente Florin Schütz\, Campaigner JUSO/SP: Kontra-Argumente\n\n\n\nEvent-Website \n\n\n\n\n\n\n\nZeit: \n\n\n\n\n\n\n\nOrt: \n\n\n\nKarl der GrosseSalonKirchgasse 148001 Zürich \n\n\n\nGoogle Maps \n\n\n\n\n\nVeranstalted durch: \n\n\n\nDemocracyNetKarl der Grosse \n\n\n\n\n\n\nZu Kalender hinzufügen:
URL:https://frontex-referendum.ch/event/podium-abstimm-bar-zum-frontex-referendum/
LOCATION:Karl der Grosse\, Kirchgasse 14\, Zürich\, 8001\, Schweiz
CATEGORIES:Podium
END:VEVENT
BEGIN:VEVENT
DTSTART;TZID=Europe/Zurich:20220424T110000
DTEND;TZID=Europe/Zurich:20220424T133000
DTSTAMP:20220515T075307
CREATED:20220417T220250Z
LAST-MODIFIED:20220417T224253Z
UID:5658-1650798000-1650807000@frontex-referendum.ch
SUMMARY:Film et discussion: Captains of Zaatari
DESCRIPTION:Zaatari\, en Jordanie\, est le plus vaste camp de réfugiés arrivant de la Syrie voisine. Comme dans beaucoup de camps de ce genre\, le provisoire n’en finit pas de durer. Fawzi et Mahmoud sont de grands amis qui partagent leurs peines et leurs espoirs. Ils sont fans de football\, y jouant dès qu‘ils ont un moment de liberté. C’est dans ce sport qu‘ils placent leurs espoirs d’une vie meilleure. \n\n\n\nÀ la fin de la projection\, discussion avec des membres du comité No Frontex Fribourg au sujet de la votation du 15 mai. \n\n\n\nUn événement de l’Infotour «Frontex et la forteresse EUrope» de SoSF \n\n\n\nSite web \n\n\n\n\n\n\n\nQuand: \n\n\n\n\n\n\n\nLieu: \n\n\n\nCinémas RexBoulevard de Pérolles 5a1700 Fribourg \n\n\n\nGoogle Maps \n\n\n\n\n\nVeranstalted durch: \n\n\n\nVeranstalterin \n\n\n\n\n\n\nAjouter au calendrier:
URL:https://frontex-referendum.ch/event/film-et-discussion-captains-of-zaatari/
LOCATION:Cinémas Rex\, Boulevard de Pérolles 5a\, Fribourg\, 1700\, Schweiz
CATEGORIES:Kultur,Podium
END:VEVENT
BEGIN:VEVENT
DTSTART;TZID=Europe/Zurich:20220422T190000
DTEND;TZID=Europe/Zurich:20220422T210000
DTSTAMP:20220515T075307
CREATED:20220415T004914Z
LAST-MODIFIED:20220417T111222Z
UID:5503-1650654000-1650661200@frontex-referendum.ch
SUMMARY:Film et discussion: Shadow games
DESCRIPTION:La projection suivra le repas de 19h. Des adolescent·es fuient leur pays ravagé par la guerre\, tentant de traverser les frontières européennes en quête d’un avenir meilleur. Nature hostile\, clôtures ou gardes armé·es : chaque pas gagné vers leur destination finale l’est aussi sur la mort. Sur fond de passage à l’âge adulte\, un film de étourdissant où des vies se consument sur les routes clandestines d’un continent fortifié. Film suivi d’une discussion sur les enjeux lié à Frontex et à la fermeture des frontières \n\n\n\nFlyer  \n\n\n\nTous les évènements à Neuchâtel (PDF) \n\n\n\n\n\n\n\nQuand: \n\n\n\n\n\n\n\nLieu: \n\n\n\nL’AMARRue de la Coquemène 12000 Neuchâtel \n\n\n\nGoogle Maps \n\n\n\n\n\nOrganisée par: \n\n\n\nle comité NoFrontex du canton de Neuchâtel \n\n\n\n\n\n\nAjouter au calendrier:
URL:https://frontex-referendum.ch/event/film-et-discussion-shadow-games-2/
LOCATION:L’AMAR\, Rue de la Coquemène 1\, Neuchâtel\, 2000\, Schweiz
CATEGORIES:Kultur,Podium
END:VEVENT
BEGIN:VEVENT
DTSTART;TZID=Europe/Zurich:20220404T190000
DTEND;TZID=Europe/Zurich:20220404T210000
DTSTAMP:20220515T075307
CREATED:20220402T172543Z
LAST-MODIFIED:20220403T002239Z
UID:4710-1649098800-1649106000@frontex-referendum.ch
SUMMARY:Podium: Was geschieht an den Aussengrenzen Europas?
DESCRIPTION:Podium zum Ausbau von Frontex. \n\n\n\nAm 15. Mai stimmen wir darüber ab\, ob die Schweiz ihren Beitrag an die europäische Grenzschutzagentur Frontex von 14 auf 61 Millionen Franken erhöhen soll. Ein überparteiliches Komitee hat dagegen das Referendum ergriffen und moniert grobe Verletzungen der Menschenrechte. Die Gegenseite fürchtet um das Schengen Abkommen.  \n\n\n\nEs diskutieren: \n\n\n\nWerner Salzmann\, Ständerat SVPClaudine Esseiva\, Stadträtin FDPMarionna Schlatter\, Nationalrätin GrüneFlavia Wasserfallen\, Nationalrätin SPMalek Ossi\, NoFrontex-Referendumskomitee\n\n\n\nModeration: Nicola Mohler\, Zeitschrift «reformiert.»\, Moderation \n\n\n\nBeim Namen nennen 2022\, Programm \n\n\n\n\n\n\n\nZeit:\n\n\n\n\n\n\n\nOrt: \n\n\n\nHeiliggeistkirche BernSpitalgasse 443014 Bern \n\n\n\nGoogle Maps \n\n\n\n\n\nVeranstalted durch: \n\n\n\nAktion «Beim Namen nennen» \n\n\n\n\n\n\nZu Kalender hinzufügen:
URL:https://frontex-referendum.ch/event/podium-was-geschieht-an-den-aussengrenzen-europas/
LOCATION:Heiliggeistkirche Bern\, Spitalgasse 44\, Bern\, 3014\, Schweiz
CATEGORIES:Podium
END:VEVENT
BEGIN:VEVENT
DTSTART;TZID=Europe/Zurich:20220404T181500
DTEND;TZID=Europe/Zurich:20220404T200000
DTSTAMP:20220515T075307
CREATED:20220402T173749Z
LAST-MODIFIED:20220408T221422Z
UID:4719-1649096100-1649102400@frontex-referendum.ch
SUMMARY:Info: Accueillir ou refouler? Informations sur le financement de Frontex
DESCRIPTION:Information sur le financement de Frontex (en lien avec la votation fédérale du 15 mai). \n\n\n\nNous posons la question : à quoi doivent servir nos impôts ? A organiser l’accueil ou à empêcher les personnes qui fuient la misère\, la violence et la guerre de venir en Europe et en Suisse pour se protéger ? Voilà de quoi nous voulons débattre pour lancer la campagne de la votation fédérale.  \n\n\n\nTable ronde avec : \n\n\n\nLisa Mazzone\, Conseillère aux Etats pour le canton de Genève\,Kiri Santer\, membre du Réseau Alarm Phone et chercheuse enSciences sociales (Université Berne)Simon Noori\, chercheur en régime des frontières européennes àl‘Université de NeuchâtelPierre Bühler\, théologien et éthicienLe témoignage d’une personne ayant subi des violences auxfrontières.\n\n\n\nModération : Amanda Ioset\, Comité de Solidarité sans Frontières \n\n\n\nSite web de l’événement \n\n\n\n\n\n\n\nQuand: \n\n\n\n\n\n\n\nOrganisée par: \n\n\n\nComité neuchâtelois contre le financement de Frontex \n\n\n\n\n\nLieu: \n\n\n\nUniversité de NeuchâtelAula du 1er MarsAvenue du 1er Mars 262000 Neuchâtel \n\n\n\nGoogle Maps \n\n\n\n\n\n\nAjouter au calendrier:
URL:https://frontex-referendum.ch/event/accueillir-ou-refouler-informations-sur-le-financement-de-frontex/
LOCATION:Université de Neuchâtel\, Avenue du 1er Mars\, Neuchâtel\, 2000\, Schweiz
CATEGORIES:Infoveranstaltung,Podium
END:VEVENT
END:VCALENDAR