BEGIN:VCALENDAR
VERSION:2.0
PRODID:-//Frontex Referendum - ECPv5.14.2.1//NONSGML v1.0//EN
CALSCALE:GREGORIAN
METHOD:PUBLISH
X-WR-CALNAME:Frontex Referendum
X-ORIGINAL-URL:https://frontex-referendum.ch
X-WR-CALDESC:Veranstaltungen für Frontex Referendum
REFRESH-INTERVAL;VALUE=DURATION:PT1H
X-Robots-Tag:noindex
X-PUBLISHED-TTL:PT1H
BEGIN:VTIMEZONE
TZID:Europe/Zurich
BEGIN:DAYLIGHT
TZOFFSETFROM:+0100
TZOFFSETTO:+0200
TZNAME:CEST
DTSTART:20220327T010000
END:DAYLIGHT
BEGIN:STANDARD
TZOFFSETFROM:+0200
TZOFFSETTO:+0100
TZNAME:CET
DTSTART:20221030T010000
END:STANDARD
END:VTIMEZONE
BEGIN:VEVENT
DTSTART;TZID=Europe/Zurich:20220514T190000
DTEND;TZID=Europe/Zurich:20220514T200000
DTSTAMP:20220515T075258
CREATED:20220418T000013Z
LAST-MODIFIED:20220418T000143Z
UID:5720-1652554800-1652558400@frontex-referendum.ch
SUMMARY:Table ronde: « Regards sur la migration »
DESCRIPTION:Dans le cadre d’une exposition de Jean Devost sur le thème de la migration. Table ronde avec la participation de  \n\n\n\nMmes et MM. Rabih Al Fakih\, chef de secteur Afrique dans le Mouvement de la Croix et du Croissant RougeCharles Heller\, cinéaste et chercheur spécialiste des politiques migratoiresSophie Guignard\, secrétaire générale de Solidarité sans frontièresFlorence Nater\, conseillère d’Etat.\n\n\n\nPage de l’événement \n\n\n\nTous les évènements à Neuchâtel (PDF) \n\n\n\n\n\n\n\nQuand: \n\n\n\n\n\n\n\nLieu: \n\n\n\nEspace culturel Bleu de ChineBovet de Chine 32114 Fleurier \n\n\n\nGoogle Maps \n\n\n\n\n\nOrganisée par: \n\n\n\nComité NoFrontex du canton de Neuchâtel \n\n\n\n\n\n\nAjouter au calendrier:
URL:https://frontex-referendum.ch/event/table-ronde-regards-sur-la-migration/
LOCATION:Espace culturel Bleu de Chine\, Bovet de Chine 3\, Fleurier\, 2114\, Schweiz
CATEGORIES:Infoveranstaltung,Kultur
END:VEVENT
BEGIN:VEVENT
DTSTART;TZID=Europe/Zurich:20220508T201500
DTEND;TZID=Europe/Zurich:20220508T221500
DTSTAMP:20220515T075258
CREATED:20220506T161455Z
LAST-MODIFIED:20220506T225722Z
UID:6319-1652040900-1652048100@frontex-referendum.ch
SUMMARY:Film: Route 4 – A Dreadful Journey
DESCRIPTION:Über 15 Monate hat ein Medienteam das Seenotrettungsschiff ALAN KURDI während ihrer Missionen auf dem Mittelmeer begleitet. Entstanden ist eine Dokumentation – des Leids\, der Strapazen und der Brutalität\, aber auch des entschlossenen Widerstandes gegen die Europäische Abschottungspolitik. Ein Aufruf zur Solidarität\, zur Empörung und zu einem NEIN am 15. Mai! \n\n\n\n\n\n\n\n! Triggerwarnung: Rassistische Gewalt\, staatliche Gewalt\, Mord. \n\n\n\n\n\n\n\nCOVID: Mit Maske \n\n\n\nBarrierefreiheit:Der Gemeinschaftsraum ist rollstuhlgängig. \n\n\n\nRaumpolitik: Offen für Menschen aller Geschlechter. \n\n\n\nSprache: Verschiedene mit deutschen Untertiteln. \n\n\n\nEintritt: Soli-Spenden an Sea Eye und NoFrontex. \n\n\n\nEvent-Einladung auf Instagram \n\n\n\n\n\n\n\nZeit: \n\n\n\n\n\n\n\nOrt: \n\n\n\nFeministisches StreikhausSihlquai 1158005 Zürich \n\n\n\nGoogle Maps \n\n\n\n\n\nVeranstalted durch: \n\n\n\nFeministisches Streickkollektiv Zürich \n\n\n\n\n\n\nZu Kalender hinzufügen:
URL:https://frontex-referendum.ch/event/film-route-4-a-dreadful-journey-zurich/
LOCATION:Feministisches Streikhaus\, Sihlquai 115\, Zürich\, 8005\, Schweiz
CATEGORIES:Kultur
END:VEVENT
BEGIN:VEVENT
DTSTART;TZID=Europe/Zurich:20220506T183000
DTEND;TZID=Europe/Zurich:20220506T220000
DTSTAMP:20220515T075258
CREATED:20220417T153926Z
LAST-MODIFIED:20220504T180340Z
UID:5631-1651861800-1651874400@frontex-referendum.ch
SUMMARY:Pizza\, Input und Diskussion: Klimagerechtigkeit\, Migration & Widerstand
DESCRIPTION:Rund um die NoFrontex-Abstimmung und Basel2030 bringen wir die Themen Migration und Klimagerechtigkeit zusammen. Wir wollen gemeinsam solidarische Strukturen und kollektive Lösungen finden und so die eigene Machtlosigkeit und Ohnmacht hinter uns lassen! \n\n\n\nAb 18:30: Pizza \n\n\n\nAb 20:00: Input zu Klimagerechtigkeit und NoFrontex-Referendum\, mit anschliessender Diskussion \n\n\n\nFlyer \n\n\n\n\n\n\n\nZeit: \n\n\n\n\n\n\n\nOrt: \n\n\n\nMattenstrasse 74/764057 Basel \n\n\n\nGoogle Maps \n\n\n\n\n\nVeranstalted durch: \n\n\n\nBasel2030Stadt für AlleFreiplatzaktion Basel \n\n\n\n\n\n\nZu Kalender hinzufügen:
URL:https://frontex-referendum.ch/event/pizza-und-diskussion-klimagerechtigkeit-migration-widerstand/
LOCATION:Mattenstrasse 74/76\, Mattenstrasse 74/76\, Basel\, 4058\, Schweiz
CATEGORIES:Kultur,Podium
END:VEVENT
BEGIN:VEVENT
DTSTART;TZID=Europe/Zurich:20220505T200000
DTEND;TZID=Europe/Zurich:20220505T220000
DTSTAMP:20220515T075258
CREATED:20220419T004934Z
LAST-MODIFIED:20220503T225959Z
UID:5816-1651780800-1651788000@frontex-referendum.ch
SUMMARY:film et discussion: Samos – The Faces of Our Border
DESCRIPTION:«Samos\, the Faces of our Border» donne un aperçu des politiques européennes qui ont conduit à la crise humanitaire et migratoire aux portes de l’Europe au travers d’interviews de personnes vivant dans et autour du camp de réfugié-es de Samos en Grèce. Ce camp\, construit pour 600 personnes\, en accueillait plus de 6 000 dans des conditions insalubres en 2019. \n\n\n\nLe 15 mai prochain\, le peuple suisse votera au sujet de l’augmentation de la contribution financière suisse à Frontex\, l’agence européenne des gardes-frontières et gardes-côtes\, qui passerait de 24 à 61 millions de francs suisses. \n\n\n\n\n\n\n\nPour évoquer les enjeux migratoires nationaux et internationaux dans le contexte de cette votation\, le Parti socialiste\, Aardvark Films et le Cinéma Zinéma vous invitent à une discussion avec : \n\n\n\nCarine Carvalho Arruda: Députée au Grand Conseil vaudois\, spécialiste égalité et diversitéNicolas Walder: Conseiller national Genève\, membre de la commission des affaires juridiques et de la commission de politique extérieureSamson Yemane: Conseiller communal\, Lausanne et militant dans le domaine de la migration\n\n\n\nModération: Emmanuel Deonna\, journaliste indépendant\, Député au Grand Conseil genevois \n\n\n\n\n\n\n\n30 premiers billets offerts ! Ensuite 8 CHF par billet \n\n\n\nL’événement sur RonOrp \n\n\n\nFlyer \n\n\n\n\n\n\n\nQuand: \n\n\n\n\n\n\n\nLieu: \n\n\n\nZinémaRue du Maupas 41004 Lausanne \n\n\n\nGoogle Maps \n\n\n\n\n\nOrganisée par: \n\n\n\nParti socialiste lausannoisAardvark FilmsCinéma Zinéma \n\n\n\n\n\n\nAjouter au calendrier:
URL:https://frontex-referendum.ch/event/film-et-discussion-samos-the-faces-of-our-border-2/
LOCATION:Zinéma\, Rue du Maupas 4\, Lausanne\, 1004\, Schweiz
CATEGORIES:Infoveranstaltung,Kultur
END:VEVENT
BEGIN:VEVENT
DTSTART;TZID=Europe/Zurich:20220504T200000
DTEND;TZID=Europe/Zurich:20220504T220000
DTSTAMP:20220515T075258
CREATED:20220421T023333Z
LAST-MODIFIED:20220421T023336Z
UID:5857-1651694400-1651701600@frontex-referendum.ch
SUMMARY:Podium und Lesung: Die Frontex-Protokolle – Auszüge – Zeugnisse von Menschenrechtsverletzungen
DESCRIPTION:Im Frontex-Abstimmungskampf verdrängt der politische Disput rund um das Verhältnis der Schweiz zur EU die Auseinandersetzung mit der menschengemachten Tragödie\, die sich tagtäglich an den EU-Aussengrenzen abspielt. \n\n\n\n«Die Frontex-Protokolle» lässt die Zeugnisse des Grenzregimes für sich sprechen. Schauspieler:innen des Neumarkt lesen aus den Flucht-Protokollen vor\, die die systematische Entrechtung an Einzelschicksalen bezeugen und Saule Yerkebayeva\, die einst selbst die Festungsmauern des Kontinents überwunden hat\, ergreift das Wort. Was löst die Volksabstimmung bei ihr aus und wie reagiert sie auf die Bilder hilfsbereiter Frontex-Mitarbeitenden\, die an der ukrainischen Grenze Teddybären verteilten? Gemeinsam mit Philippe Blanc vom Migration Solidarity Network und Fiona Chiappori spricht sie über den Zustand und die Frage\, wohin sich die Zukunft entwickelt – Gibt es Hoffnung? \n\n\n\n\n\n\n\nTeilnehmende:  \n\n\n\nPhilippe BlancFiona ChiapporiSaule Yerkebayeva\n\n\n\nModeration Nikolai Eneas Prawdzic \n\n\n\nEvent-Website \n\n\n\n\n\n\n\nZeit: \n\n\n\n\n\n\n\nOrt: \n\n\n\nTheater am NeumarktNeumarkt 58001 Zürich \n\n\n\nGoogle Maps \n\n\n\n\n\nVeranstalted durch: \n\n\n\nTheater am Neumarkt \n\n\n\n\n\n\nZu Kalender hinzufügen:
URL:https://frontex-referendum.ch/event/podium-und-lesung-die-frontex-protokolle-auszuege-zeugnisse-von-menschenrechtsverletzungen/
LOCATION:Theater am Neumarkt\, Neumarkt 5\, Zürich\, 8001\, Schweiz
CATEGORIES:Kultur,Podium
END:VEVENT
BEGIN:VEVENT
DTSTART;TZID=Europe/Zurich:20220504T183000
DTEND;TZID=Europe/Zurich:20220504T203000
DTSTAMP:20220515T075258
CREATED:20220412T001034Z
LAST-MODIFIED:20220412T002748Z
UID:5345-1651689000-1651696200@frontex-referendum.ch
SUMMARY:Film et discussion: Shadow games
DESCRIPTION:Projection du film Shadow games. Discussion et échanges après le film. Soirée organisée par L’AMAR et l’ANES. \n\n\n\nSite web de l’événement  \n\n\n\nTous les évènements à Neuchâtel (PDF) \n\n\n\n\n\n\n\nZeit: \n\n\n\n\n\n\n\nOrt: \n\n\n\nFaculté des Lettres\, Salle RN02Espace Tilo-Frey 1Neuchâtel\, 2000 \n\n\n\nGoogle Maps \n\n\n\n\n\nVeranstalted durch: \n\n\n\nL’AMARl’ANES \n\n\n\n\n\n\nZu Kalender hinzufügen:
URL:https://frontex-referendum.ch/event/film-et-discussion-shadow-games/
LOCATION:Faculté des Lettres\, Espace Tilo-Frey 1\, Neuchâtel\, 2000\, Schweiz
CATEGORIES:Kultur
END:VEVENT
BEGIN:VEVENT
DTSTART;TZID=Europe/Zurich:20220503T200000
DTEND;TZID=Europe/Zurich:20220503T220000
DTSTAMP:20220515T075258
CREATED:20220428T215043Z
LAST-MODIFIED:20220428T215044Z
UID:6064-1651608000-1651615200@frontex-referendum.ch
SUMMARY:Info und Film: Miraggio
DESCRIPTION:Nach einer kurzen Info zum Referendum vom 15. Mai 2022 und zu Frontex wird der Film Miraggio gezeigt. Dieser begleitet fünf geflüchtete Menschen aus Westafrika nach ihrer Ankunft in Italien.  \n\n\n\nEintritt frei\, mit Kollekte. \n\n\n\nEvent-Website \n\n\n\n\n\n\n\nZeit: \n\n\n\n\n\n\n\nOrt: \n\n\n\nKino InterlakenCentralstrasse 193800 Interlaken \n\n\n\nGoogle Maps \n\n\n\n\n\nVeranstalted durch: \n\n\n\nVeranstalterin \n\n\n\n\n\n\nZu Kalender hinzufügen:
URL:https://frontex-referendum.ch/event/info-und-film-miraggio/
LOCATION:Kino Interlaken\, Centralstrasse 19\, Interlaken\, 3800\, Schweiz
CATEGORIES:Infoveranstaltung,Kultur
END:VEVENT
BEGIN:VEVENT
DTSTART;TZID=Europe/Zurich:20220503T190000
DTEND;TZID=Europe/Zurich:20220503T210000
DTSTAMP:20220515T075258
CREATED:20220418T001521Z
LAST-MODIFIED:20220428T214939Z
UID:5726-1651604400-1651611600@frontex-referendum.ch
SUMMARY:Film und Diskussion: Kritischer Kurzfilmabend über das Asylregime
DESCRIPTION:Einen Einblick in das Leben im europäischen und schweizerischen Asylregime geben die Kurzfilme\, welche an diesem Abend gezeigt werden. Anschließend diskutieren wir das NoFrontex-Referendum\, die Perspektiven für eine andere Migrationspolitik und den Auftrag Sozialer Arbeit. \n\n\n\nFlyer \n\n\n\nVeranstaltungskalender NoFrontex Basel \n\n\n\n\n\n\n\nZeit: \n\n\n\n\n\n\n\nOrt: \n\n\n\nJugendzentrum PurpleparkMeret Oppenheim-Strasse 804053 Basel \n\n\n\nGoogle Maps \n\n\n\n\n\nVeranstalted durch: \n\n\n\nKriso BaselStop Racial Profiling Basel \n\n\n\n\n\n\nZu Kalender hinzufügen:
URL:https://frontex-referendum.ch/event/film-und-diskussion-kritischer-kurzfilmabend-ueber-das-asylregime/
LOCATION:Jugendzentrum PurplePark\, Meret Oppenheim-Strasse 80\, Basel\, 4053\, Schweiz
CATEGORIES:Kultur,Podium
END:VEVENT
BEGIN:VEVENT
DTSTART;TZID=Europe/Zurich:20220502T190000
DTEND;TZID=Europe/Zurich:20220502T210000
DTSTAMP:20220515T075258
CREATED:20220429T102037Z
LAST-MODIFIED:20220429T102558Z
UID:6088-1651518000-1651525200@frontex-referendum.ch
SUMMARY:Film: Route 4 – A Dreadful Journey
DESCRIPTION:Filmvorführung mit Einleitung von Carola Rackete\, Naturschutzökologin und freiwillige Seenotretterin und Mitgründerin «Abolish Frontex» \n\n\n\nVon der Wüste bis zum Mittelmeer: Über 15 Monate haben wir das Seenotrettungsschiff ALAN KURDI des Vereins «Sea-Eye» während mehrerer Missionen als Mediateam auf dem Mittelmeer begleitet. Neben zahlreichen bewegenden Momenten auf See entstand auch Material in Ländern wie Niger\, Tunesien\, Libyen\, Italien und Malta. Zwar wird «Route 4» von einem Thema\, nämlich der Gefahr\, die in und durch Libyen ausgeht\, eingerahmt. Wir wollen aber vielmehr den Zuschauer:innen einen Blick in das Erlebte und Gesehene ermöglichen. Wir möchten auf von der EU selbsterschaffene Probleme aufmerksam machen. Auf das Leid und die Strapazen\, die Menschen auf ihren Reisen widerfahren\, und auf die unglaubliche Arbeit der NGOs (in diesem Fall Sea-Eye)\, die als einzige die Aufgabe übernehmen\, Menschen im Mittelmeer zu retten. \n\n\n\nTeil der NoFrontex-Busreise \n\n\n\nEvent-Website \n\n\n\n\n\n\n\nZeit: \n\n\n\n\n\n\n\nOrt: \n\n\n\nSaal EinViertelEmil-Krebs-Gasse 108400 Winterthur \n\n\n\nGoogle Maps \n\n\n\n\n\nVeranstalted durch: \n\n\n\nVeranstalterin \n\n\n\n\n\n\nZu Kalender hinzufügen:
URL:https://frontex-referendum.ch/event/film-route-4-a-dreadful-journey-2/
LOCATION:Saal EinViertel\, Emil-Krebs-Gasse 10\, Winterthur\, 8400\, Schweiz
CATEGORIES:Kultur
END:VEVENT
BEGIN:VEVENT
DTSTART;TZID=Europe/Zurich:20220430T200000
DTEND;TZID=Europe/Zurich:20220430T220000
DTSTAMP:20220515T075258
CREATED:20220411T234956Z
LAST-MODIFIED:20220411T235120Z
UID:5337-1651348800-1651356000@frontex-referendum.ch
SUMMARY:Theater: Mittelmeermonologe
DESCRIPTION:Das Sterben auf dem Mittelmeer. Die Geschehnisse an den europäischen Aussengrenzen. Alles ein abstraktes politisches Geschehen in weiter Ferne? \n\n\n\nDie «Mittelmeer-Monologe» erzählen von Naomie aus Kamerun und Yassin aus Libyen\, von politischem Widerstand\, von einem Boot auf dem Weg nach Europa\, von brutalen Küstenwachen\, zweifelhaften Seenotrettungsstellen. Und von Aktivist*innen\, die dem Sterben auf dem Mittelmeer etwas entgegensetzen. Sie tun das\, was nicht mehr selbstverständlich ist: Sie retten menschliches Leben. \n\n\n\nWie wir momentan in Afghanistan sehen\, leben Menschen zurzeit in hilflosem Terrorzustand. Viele werden gezwungen sein ihre Heimat zu verlassen. Seit 1993 sind mehr als 44 000 Menschen beim Versuch nach Europa zu flüchten gestorben. \n\n\n\nDie «Mittelmeer-Monologe» sind dokumentarisches\, wortgetreues Theater\, basierend auf mehrstündigen Interviews. Reale Fälle der Seenotrettung werden rekonstruiert und aus der Perspektive von Betroffenen und Aktivist:innen erzählt.  \n\n\n\nEintritt frei\, Kollekte. \n\n\n\nEvent-Website \n\n\n\n\n\n\n\nZeit: \n\n\n\n\n\n\n\nOrt: \n\n\n\nBarakudaDornacherstrasse 1924053 Basel \n\n\n\nGoogle Maps \n\n\n\n\n\nVeranstalted durch: \n\n\n\nMAXIM-Theater ZürichAlarmphone \n\n\n\n\n\n\nZu Kalender hinzufügen:
URL:https://frontex-referendum.ch/event/theater-mittelmeermonologe-30/
LOCATION:Barakuda\, Dornacherstrasse 192\, Basel\, 4053\, Schweiz
CATEGORIES:Kultur
END:VEVENT
BEGIN:VEVENT
DTSTART;TZID=Europe/Zurich:20220430T190000
DTEND;TZID=Europe/Zurich:20220430T200000
DTSTAMP:20220515T075258
CREATED:20220408T231032Z
LAST-MODIFIED:20220417T152717Z
UID:5149-1651345200-1651348800@frontex-referendum.ch
SUMMARY:Exposition et conférence: Quand Frontex viole les droits humains aux frontières de l’Europe
DESCRIPTION:Avec Pierre Bühler. Soirée organisée dans le cadre de l’exposition consacrée à des œuvres de Jean Devost sur le thème de la migration. \n\n\n\nPage de l’événement \n\n\n\nTous les évènements à Neuchâtel (PDF) \n\n\n\n\n\n\n\nQuand: \n\n\n\n\n\n\n\nLieu: \n\n\n\nEspace culturel Bleu de ChineBovet de Chine 32114 Fleurier \n\n\n\nGoogle Maps \n\n\n\n\n\nOrganisée par: \n\n\n\nEspace culturel Bleu de Chine \n\n\n\n\n\n\nAjouter au calendrier:
URL:https://frontex-referendum.ch/event/exposition-et-conference-quand-frontex-viole-les-droits-humains-aux-frontieres-de-leurope/
LOCATION:Espace culturel Bleu de Chine\, Bovet de Chine 3\, Fleurier\, 2114\, Schweiz
CATEGORIES:Infoveranstaltung,Kultur
END:VEVENT
BEGIN:VEVENT
DTSTART;TZID=Europe/Zurich:20220429T200000
DTEND;TZID=Europe/Zurich:20220429T220000
DTSTAMP:20220515T075258
CREATED:20220411T234826Z
LAST-MODIFIED:20220417T153127Z
UID:5330-1651262400-1651269600@frontex-referendum.ch
SUMMARY:Theater: Mittelmeermonologe
DESCRIPTION:Das Sterben auf dem Mittelmeer. Die Geschehnisse an den europäischen Aussengrenzen. Alles ein abstraktes politisches Geschehen in weiter Ferne? \n\n\n\nDie «Mittelmeer-Monologe» erzählen von Naomie aus Kamerun und Yassin aus Libyen\, von politischem Widerstand\, von einem Boot auf dem Weg nach Europa\, von brutalen Küstenwachen\, zweifelhaften Seenotrettungsstellen. Und von Aktivist*innen\, die dem Sterben auf dem Mittelmeer etwas entgegensetzen. Sie tun das\, was nicht mehr selbstverständlich ist: Sie retten menschliches Leben. \n\n\n\nWie wir momentan in Afghanistan sehen\, leben Menschen zurzeit in hilflosem Terrorzustand. Viele werden gezwungen sein ihre Heimat zu verlassen. Seit 1993 sind mehr als 44 000 Menschen beim Versuch nach Europa zu flüchten gestorben. \n\n\n\nDie «Mittelmeer-Monologe» sind dokumentarisches\, wortgetreues Theater\, basierend auf mehrstündigen Interviews. Reale Fälle der Seenotrettung werden rekonstruiert und aus der Perspektive von Betroffenen und Aktivist:innen erzählt.  \n\n\n\nEintritt frei\, Kollekte. \n\n\n\nEvent-Website \n\n\n\nVeranstaltungskalender NoFrontex Basel \n\n\n\n\n\n\n\nZeit: \n\n\n\n\n\n\n\nOrt: \n\n\n\nBarakudaDornacherstrasse 1924053 Basel \n\n\n\nGoogle Maps \n\n\n\n\n\nVeranstalted durch: \n\n\n\nMAXIM-Theater ZürichAlarmphone \n\n\n\n\n\n\nZu Kalender hinzufügen:
URL:https://frontex-referendum.ch/event/theater-mittelmeermonologe-29/
LOCATION:Barakuda\, Dornacherstrasse 192\, Basel\, 4053\, Schweiz
CATEGORIES:Kultur
END:VEVENT
BEGIN:VEVENT
DTSTART;TZID=Europe/Zurich:20220429T180000
DTEND;TZID=Europe/Zurich:20220429T213000
DTSTAMP:20220515T075258
CREATED:20220417T231656Z
LAST-MODIFIED:20220417T231800Z
UID:5698-1651255200-1651267800@frontex-referendum.ch
SUMMARY:Film et discussion: Samos – The Faces of Our Border
DESCRIPTION:La Jeunesse socialiste jurassienne a le plaisir de t’inviter pour la projection de « Samos – The Faces of Our Border »\, un documentaire tourné dans un camps de réfugié·e·s mettant en lumière l’inhumanité de nos politiques migratoires. \n\n\n\nLa séance sera suivie d’une discussion autour du référendum Frontex – qui sera soumis à votation le 15 mai prochain – en présence de Pierre Alain-Fridez\, conseiller national socialiste\, ainsi que de l’association AJIR – Jura Interactions Rencontres. Finalement\, un apéritif à la sortie de la séance sera offert par le Parti socialiste jurassien et permettra de prolonger les discussions. \n\n\n\nAfin que toutes les personnes intéressées puissent participer\, l’entrée sera libre. L’argent récolté sera intégralement versé à SOS Méditerranée Suisse. \n\n\n\nSi tu souhaites t’informer sur la réalité vécue par de nombreux réfugié·es ou sur l’objet Frontex prochainement soumis à votation\, nous serons heureuses et heureux de te voir à la séance ! \n\n\n\nSite web de l’événement \n\n\n\n\n\n\n\nQuand: \n\n\n\n\n\n\n\nLieu: \n\n\n\nCinémontRue Emile-Boéchat 852800 DelémontSchweiz \n\n\n\nGoogle Maps \n\n\n\n\n\nOrganisée par: \n\n\n\nJeunesse socialiste jurassienne \n\n\n\n\n\n\nAjouter au calendrier:
URL:https://frontex-referendum.ch/event/film-et-discussion-samos-the-faces-of-our-border/
LOCATION:Cinémont à Delémont\, Rue Emile-Boéchat 85\, Delémont\, 2800\, Schweiz
CATEGORIES:Kultur,Podium
END:VEVENT
BEGIN:VEVENT
DTSTART;TZID=Europe/Zurich:20220429T180000
DTEND;TZID=Europe/Zurich:20220429T200000
DTSTAMP:20220515T075258
CREATED:20220408T223758Z
LAST-MODIFIED:20220408T232815Z
UID:4005-1651255200-1651262400@frontex-referendum.ch
SUMMARY:Film et Débat: Samos – The Faces of Our Border
DESCRIPTION:« Samos – The Faces of Our Border » (les visages de notre frontière) de Shams Abou El Enein (Suisse\, 2021) est un documentaire qui donne un aperçu ds politiques européennes qui ont conduit é la crise humanitaire et migratoire au portes de l’Europe\, au travers d’interviews de personnes vivant dans et autour du camp de migrants de Samos en Grèce\, construit pour 600 personnes et en accueillant pus de 6000 dans des conditions insalubres. Il dépeint les échecs des dernières années de politiques migratoires europennes. \n\n\n\nLe film sera suivi d’un débat avec Mary Wenker\, présidente de l’association Choosehumanity et auteure de l’ouvrage « Echos de la mer Egée – voix de réfugiés ». \n\n\n\nFlyer (PDF) \n\n\n\n\n\n\n\nQuand: \n\n\n\n\n\n\n\nLieu: \n\n\n\nLes Cinémas du GrütliRue du Général-Dufour 161024 Genève \n\n\n\nGoogle Maps \n\n\n\n\n\nOrganisée par: \n\n\n\nComité NoFrontex genevois \n\n\n\n\n\n\nAjouter au calendrier:
URL:https://frontex-referendum.ch/event/film-et-debat-samos-the-faces-of-our-border/
LOCATION:Les Cinémas Du Grütli\, Rue du Général-Dufour 16\, Genève\, 1204\, Schweiz
CATEGORIES:Kultur
END:VEVENT
BEGIN:VEVENT
DTSTART;TZID=Europe/Zurich:20220427T193000
DTEND;TZID=Europe/Zurich:20220427T213000
DTSTAMP:20220515T075258
CREATED:20220417T111022Z
LAST-MODIFIED:20220425T162624Z
UID:5604-1651087800-1651095000@frontex-referendum.ch
SUMMARY:Soirée d’information et de réflexion
DESCRIPTION:Soirée d’information et de réflexion organisée par la paroisse réformée de Neuchâtel sur les enjeux de la votation. Film de Madeleine Leroyer «#387»\, en lien avec le lancement de l’action «Les nommer par leur nom\, pour faire mémoire des personnes mortes aux frontières de l’Europe».  \n\n\n\nAvec Pierre Bühler\, professeur émérite de théologie\, engagé dans des questions de migration et d’asile. \n\n\n\nEntrée libre et collecte é la sortie. \n\n\n\nSite web de l’événement  \n\n\n\nTous les évènements à Neuchâtel (PDF) \n\n\n\n\n\n\n\nQuand: \n\n\n\n\n\n\n\nLieu: \n\n\n\nTemple du BasRue du Temple-Neuf 52000 Neuchâtel \n\n\n\nGoogle Maps \n\n\n\n\n\nOrganisée par: \n\n\n\nParoisse reforméee de Neuchâtelle comité NoFrontex du canton de Neuchâtel \n\n\n\n\n\n\nAjouter au calendrier:
URL:https://frontex-referendum.ch/event/soiree-dinformation-et-de-reflexion/
LOCATION:Temple du Bas\, Rue du Temple-Neuf 5\, Neuchâtel\, 2000\, Schweiz
CATEGORIES:Infoveranstaltung,Kultur
END:VEVENT
BEGIN:VEVENT
DTSTART;TZID=Europe/Zurich:20220426T190000
DTEND;TZID=Europe/Zurich:20220426T210000
DTSTAMP:20220515T075258
CREATED:20220424T172139Z
LAST-MODIFIED:20220424T172215Z
UID:5953-1650999600-1651006800@frontex-referendum.ch
SUMMARY:Film: Route 4 – A Dreadful Journey
DESCRIPTION:Filmvorführung von Route 4 – A Dreadful Journey mit Austausch\, Apéro und Input.  \n\n\n\nTeil der NoFrontex-Busreise \n\n\n\nEvent-Website \n\n\n\n\n\n\n\nZeit: \n\n\n\n\n\n\n\nOrt: \n\n\n\nKino InterlakenCentralstrasse 193800 Interlaken \n\n\n\nGoogle Maps \n\n\n\n\n\nVeranstalted durch: \n\n\n\nVeranstalterin \n\n\n\n\n\n\nZu Kalender hinzufügen:
URL:https://frontex-referendum.ch/event/film-route-4-a-dreadful-journey/
LOCATION:Kino Interlaken\, Centralstrasse 19\, Interlaken\, 3800\, Schweiz
CATEGORIES:Infoveranstaltung,Kultur
END:VEVENT
BEGIN:VEVENT
DTSTART;TZID=Europe/Zurich:20220424T110000
DTEND;TZID=Europe/Zurich:20220424T133000
DTSTAMP:20220515T075258
CREATED:20220417T220250Z
LAST-MODIFIED:20220417T224253Z
UID:5658-1650798000-1650807000@frontex-referendum.ch
SUMMARY:Film et discussion: Captains of Zaatari
DESCRIPTION:Zaatari\, en Jordanie\, est le plus vaste camp de réfugiés arrivant de la Syrie voisine. Comme dans beaucoup de camps de ce genre\, le provisoire n’en finit pas de durer. Fawzi et Mahmoud sont de grands amis qui partagent leurs peines et leurs espoirs. Ils sont fans de football\, y jouant dès qu‘ils ont un moment de liberté. C’est dans ce sport qu‘ils placent leurs espoirs d’une vie meilleure. \n\n\n\nÀ la fin de la projection\, discussion avec des membres du comité No Frontex Fribourg au sujet de la votation du 15 mai. \n\n\n\nUn événement de l’Infotour «Frontex et la forteresse EUrope» de SoSF \n\n\n\nSite web \n\n\n\n\n\n\n\nQuand: \n\n\n\n\n\n\n\nLieu: \n\n\n\nCinémas RexBoulevard de Pérolles 5a1700 Fribourg \n\n\n\nGoogle Maps \n\n\n\n\n\nVeranstalted durch: \n\n\n\nVeranstalterin \n\n\n\n\n\n\nAjouter au calendrier:
URL:https://frontex-referendum.ch/event/film-et-discussion-captains-of-zaatari/
LOCATION:Cinémas Rex\, Boulevard de Pérolles 5a\, Fribourg\, 1700\, Schweiz
CATEGORIES:Kultur,Podium
END:VEVENT
BEGIN:VEVENT
DTSTART;TZID=Europe/Zurich:20220422T190000
DTEND;TZID=Europe/Zurich:20220422T210000
DTSTAMP:20220515T075258
CREATED:20220415T004914Z
LAST-MODIFIED:20220417T111222Z
UID:5503-1650654000-1650661200@frontex-referendum.ch
SUMMARY:Film et discussion: Shadow games
DESCRIPTION:La projection suivra le repas de 19h. Des adolescent·es fuient leur pays ravagé par la guerre\, tentant de traverser les frontières européennes en quête d’un avenir meilleur. Nature hostile\, clôtures ou gardes armé·es : chaque pas gagné vers leur destination finale l’est aussi sur la mort. Sur fond de passage à l’âge adulte\, un film de étourdissant où des vies se consument sur les routes clandestines d’un continent fortifié. Film suivi d’une discussion sur les enjeux lié à Frontex et à la fermeture des frontières \n\n\n\nFlyer  \n\n\n\nTous les évènements à Neuchâtel (PDF) \n\n\n\n\n\n\n\nQuand: \n\n\n\n\n\n\n\nLieu: \n\n\n\nL’AMARRue de la Coquemène 12000 Neuchâtel \n\n\n\nGoogle Maps \n\n\n\n\n\nOrganisée par: \n\n\n\nle comité NoFrontex du canton de Neuchâtel \n\n\n\n\n\n\nAjouter au calendrier:
URL:https://frontex-referendum.ch/event/film-et-discussion-shadow-games-2/
LOCATION:L’AMAR\, Rue de la Coquemène 1\, Neuchâtel\, 2000\, Schweiz
CATEGORIES:Kultur,Podium
END:VEVENT
BEGIN:VEVENT
DTSTART;TZID=Europe/Zurich:20220415T140000
DTEND;TZID=Europe/Zurich:20220415T140000
DTSTAMP:20220515T075258
CREATED:20220410T161639Z
LAST-MODIFIED:20220410T162020Z
UID:5261-1650031200-1650031200@frontex-referendum.ch
SUMMARY:Aktionstag zu NoFrontex
DESCRIPTION:Ganzer Tag ist Aktionstag! Ab 14:00: Infostand & Solibar beim Park Platz \n\n\n\nAn den Aussengrenzen Europas werden Flüchtende und Migrierende werden\, geprügelt und abgeschoben. Als europäische Grenz- und Küstenwache ist Frontex mitverantwortlich. Frontex ist intransparent. Frontex schaut weg. Frontex beteiligt sich an Menschenrechtsverletzungen. Trotzdem wird Frontex europaweit massiv ausgebaut. \n\n\n\nAm 15. Mai wird abgestimmt\, ob sich die Schweiz an diesem Ausbau von Frontex beteiligt. Wir sagen JA zur Bewegungsfreiheit für alle und stimmen somit NEIN zu Geld für die Frontex. \n\n\n\nWie kannst DU dich am Aktionstag beteiligen? \n\n\n\nKomm ab 14:00 zum Park Platz. Es gibt einen Infostand & eine Soli-Bar.Es können Flyer und Plakate abgeholt werden um dann in ganz Zürich flyern zu gehen!Macht Aktionen! Hängt Transparente\, seid kreativ. Teilt die Aktionen auf Social Media und markiert @frontex_referendum\n\n\n\nEvent-Website \n\n\n\n\n\n\n\nZeit: \n\n\n\n\n\n\n\nOrt: \n\n\n\nPark PlatzWasserwerkstrasse 1018037 Zürich \n\n\n\nGoogle Maps \n\n\n\n\n\nVeranstalted durch: \n\n\n\nPark Platz \n\n\n\n\n\n\nZu Kalender hinzufügen:
URL:https://frontex-referendum.ch/event/aktionstag-und-soli-bar-zu-nofrontex/
LOCATION:Park Platz\, Wasserwerkstrasse 101\, Zürich\, 8037\, Schweiz
CATEGORIES:Aktion,Kultur
END:VEVENT
BEGIN:VEVENT
DTSTART;TZID=Europe/Zurich:20220406T190000
DTEND;TZID=Europe/Zurich:20220406T210000
DTSTAMP:20220515T075258
CREATED:20220402T181436Z
LAST-MODIFIED:20220408T232905Z
UID:4738-1649271600-1649278800@frontex-referendum.ch
SUMMARY:Film und Vortrag: «Nr. 387 – Ertrunken im Mittelmeer»
DESCRIPTION:Vortrag über das NoFrontex-Referendum mit anschliessender Filmvorführung des Films «Nr. 387 – Ertrunken im Mittelmeer». \n\n\n\nReferenten: \n\n\n\nLorenz Naegeli (Aktivist von Watch Med Alarmphone und Researcher) Malek Ossi (Mitglied Referendumskomitee)\n\n\n\nFilm: Nr. 387 – Ertrunken im Mittelmeer \n\n\n\nEvent auf Facebook \n\n\n\n\n\n\n\nZeit:\n\n\n\n\n\n\n\nOrt: \n\n\n\nKino REX ThunAarestrasse 2a3602 Thun \n\n\n\nGoogle Maps \n\n\n\n\n\nVeranstalted durch: \n\n\n\nSP Thun für alleSP RTUJUSO Thun – Berner OberlandSP HeimbergSP Regionalverband Thun \n\n\n\n\n\n\nZu Kalender hinzufügen:
URL:https://frontex-referendum.ch/event/film-nr-387-ertrunken-im-mittelmeer-mit-vortrag/
LOCATION:Kino REX Thun\, Aarestrasse 2a\, Thun\, 3602\, Schweiz
CATEGORIES:Infoveranstaltung,Kultur
END:VEVENT
END:VCALENDAR