BEGIN:VCALENDAR
VERSION:2.0
PRODID:-//Frontex Referendum - ECPv5.14.2.1//NONSGML v1.0//EN
CALSCALE:GREGORIAN
METHOD:PUBLISH
X-WR-CALNAME:Frontex Referendum
X-ORIGINAL-URL:https://frontex-referendum.ch
X-WR-CALDESC:Veranstaltungen für Frontex Referendum
REFRESH-INTERVAL;VALUE=DURATION:PT1H
X-Robots-Tag:noindex
X-PUBLISHED-TTL:PT1H
BEGIN:VTIMEZONE
TZID:Europe/Zurich
BEGIN:DAYLIGHT
TZOFFSETFROM:+0100
TZOFFSETTO:+0200
TZNAME:CEST
DTSTART:20220327T010000
END:DAYLIGHT
BEGIN:STANDARD
TZOFFSETFROM:+0200
TZOFFSETTO:+0100
TZNAME:CET
DTSTART:20221030T010000
END:STANDARD
END:VTIMEZONE
BEGIN:VEVENT
DTSTART;TZID=Europe/Zurich:20220505T200000
DTEND;TZID=Europe/Zurich:20220505T220000
DTSTAMP:20220515T074558
CREATED:20220419T004934Z
LAST-MODIFIED:20220503T225959Z
UID:5816-1651780800-1651788000@frontex-referendum.ch
SUMMARY:film et discussion: Samos – The Faces of Our Border
DESCRIPTION:«Samos\, the Faces of our Border» donne un aperçu des politiques européennes qui ont conduit à la crise humanitaire et migratoire aux portes de l’Europe au travers d’interviews de personnes vivant dans et autour du camp de réfugié-es de Samos en Grèce. Ce camp\, construit pour 600 personnes\, en accueillait plus de 6 000 dans des conditions insalubres en 2019. \n\n\n\nLe 15 mai prochain\, le peuple suisse votera au sujet de l’augmentation de la contribution financière suisse à Frontex\, l’agence européenne des gardes-frontières et gardes-côtes\, qui passerait de 24 à 61 millions de francs suisses. \n\n\n\n\n\n\n\nPour évoquer les enjeux migratoires nationaux et internationaux dans le contexte de cette votation\, le Parti socialiste\, Aardvark Films et le Cinéma Zinéma vous invitent à une discussion avec : \n\n\n\nCarine Carvalho Arruda: Députée au Grand Conseil vaudois\, spécialiste égalité et diversitéNicolas Walder: Conseiller national Genève\, membre de la commission des affaires juridiques et de la commission de politique extérieureSamson Yemane: Conseiller communal\, Lausanne et militant dans le domaine de la migration\n\n\n\nModération: Emmanuel Deonna\, journaliste indépendant\, Député au Grand Conseil genevois \n\n\n\n\n\n\n\n30 premiers billets offerts ! Ensuite 8 CHF par billet \n\n\n\nL’événement sur RonOrp \n\n\n\nFlyer \n\n\n\n\n\n\n\nQuand: \n\n\n\n\n\n\n\nLieu: \n\n\n\nZinémaRue du Maupas 41004 Lausanne \n\n\n\nGoogle Maps \n\n\n\n\n\nOrganisée par: \n\n\n\nParti socialiste lausannoisAardvark FilmsCinéma Zinéma \n\n\n\n\n\n\nAjouter au calendrier:
URL:https://frontex-referendum.ch/event/film-et-discussion-samos-the-faces-of-our-border-2/
LOCATION:Zinéma\, Rue du Maupas 4\, Lausanne\, 1004\, Schweiz
CATEGORIES:Infoveranstaltung,Kultur
END:VEVENT
END:VCALENDAR