BEGIN:VCALENDAR
VERSION:2.0
PRODID:-//Frontex Referendum - ECPv5.14.2.1//NONSGML v1.0//EN
CALSCALE:GREGORIAN
METHOD:PUBLISH
X-WR-CALNAME:Frontex Referendum
X-ORIGINAL-URL:https://frontex-referendum.ch/fr/
X-WR-CALDESC:évènements pour Frontex Referendum
REFRESH-INTERVAL;VALUE=DURATION:PT1H
X-Robots-Tag:noindex
X-PUBLISHED-TTL:PT1H
BEGIN:VTIMEZONE
TZID:Europe/Zurich
BEGIN:DAYLIGHT
TZOFFSETFROM:+0100
TZOFFSETTO:+0200
TZNAME:CEST
DTSTART:20220327T010000
END:DAYLIGHT
BEGIN:STANDARD
TZOFFSETFROM:+0200
TZOFFSETTO:+0100
TZNAME:CET
DTSTART:20221030T010000
END:STANDARD
END:VTIMEZONE
BEGIN:VEVENT
DTSTART;TZID=Europe/Zurich:20220503T200000
DTEND;TZID=Europe/Zurich:20220503T220000
DTSTAMP:20220515T073412
CREATED:20220428T215043Z
LAST-MODIFIED:20220428T215044Z
UID:6064-1651608000-1651615200@frontex-referendum.ch
SUMMARY:Info und Film: Miraggio
DESCRIPTION:Nach einer kurzen Info zum Referendum vom 15. Mai 2022 und zu Frontex wird der Film Miraggio gezeigt. Dieser begleitet fünf geflüchtete Menschen aus Westafrika nach ihrer Ankunft in Italien.  \n\n\n\nEintritt frei\, mit Kollekte. \n\n\n\nEvent-Website \n\n\n\n\n\n\n\nZeit: \n\n\n\n\n\n\n\nOrt: \n\n\n\nKino InterlakenCentralstrasse 193800 Interlaken \n\n\n\nGoogle Maps \n\n\n\n\n\nVeranstalted durch: \n\n\n\nVeranstalterin \n\n\n\n\n\n\nZu Kalender hinzufügen:
URL:https://frontex-referendum.ch/fr/event/info-und-film-miraggio/
LOCATION:Kino Interlaken\, Centralstrasse 19\, Interlaken\, 3800\, Schweiz
CATEGORIES:Infoveranstaltung,Kultur
END:VEVENT
END:VCALENDAR