BEGIN:VCALENDAR
VERSION:2.0
PRODID:-//Frontex Referendum - ECPv5.14.2.1//NONSGML v1.0//EN
CALSCALE:GREGORIAN
METHOD:PUBLISH
X-WR-CALNAME:Frontex Referendum
X-ORIGINAL-URL:https://frontex-referendum.ch/fr/
X-WR-CALDESC:évènements pour Frontex Referendum
REFRESH-INTERVAL;VALUE=DURATION:PT1H
X-Robots-Tag:noindex
X-PUBLISHED-TTL:PT1H
BEGIN:VTIMEZONE
TZID:Europe/Zurich
BEGIN:DAYLIGHT
TZOFFSETFROM:+0100
TZOFFSETTO:+0200
TZNAME:CEST
DTSTART:20220327T010000
END:DAYLIGHT
BEGIN:STANDARD
TZOFFSETFROM:+0200
TZOFFSETTO:+0100
TZNAME:CET
DTSTART:20221030T010000
END:STANDARD
END:VTIMEZONE
BEGIN:VEVENT
DTSTART;TZID=Europe/Zurich:20220428T181500
DTEND;TZID=Europe/Zurich:20220428T204500
DTSTAMP:20220515T073749
CREATED:20220424T170300Z
LAST-MODIFIED:20220424T174833Z
UID:5934-1651169700-1651178700@frontex-referendum.ch
SUMMARY:Info: Erfahrungsberichte aus erster Hand
DESCRIPTION:Selam Habtemariam und Carola Rakete sprechen über ihre Erfahrungen mit Grenzgewalt und Frontex. Im Gespräch wird aufgezeigt\, worum es in der Abstimmungsvorlage geht und welchen Aktivismus es – auch nach dem 15. Mai – braucht. Wie kann das System Frontex bekämpft werden? Wir schaffen wir eine menschliche und solidarische Migrationspolitik? \n\n\n\nMit: \n\n\n\nSelam Habtemariam\, Aktivistin Migrant Solidarity Network\, ReferendumskomiteeCarola Rackete\, Naturschutzökologin\, freiwillige Seenotretterin\n\n\n\nModeration: Hannah Elias \n\n\n\nDieser Anlass ist Teil der NoFrontex-Busreise \n\n\n\nFlyer \n\n\n\n\n\n\n\nZeit: \n\n\n\n\n\n\n\nOrt: \n\n\n\nUniversität Uni ToblerRaum F021Muesmattstrasse3012 Bern \n\n\n\nGoogle Maps \n\n\n\n\n\nVeranstalted durch: \n\n\n\nVeranstalterin \n\n\n\n\n\n\nZu Kalender hinzufügen:
URL:https://frontex-referendum.ch/fr/event/info-erfahrungsberichte-aus-erster-hand/
LOCATION:Universität Bern Unitobler\, Muesmattstrasse\, Bern\, 3012\, Schweiz
CATEGORIES:Infoveranstaltung
END:VEVENT
END:VCALENDAR