BEGIN:VCALENDAR
VERSION:2.0
PRODID:-//Frontex Referendum - ECPv5.14.2.1//NONSGML v1.0//EN
CALSCALE:GREGORIAN
METHOD:PUBLISH
X-WR-CALNAME:Frontex Referendum
X-ORIGINAL-URL:https://frontex-referendum.ch/fr/
X-WR-CALDESC:évènements pour Frontex Referendum
REFRESH-INTERVAL;VALUE=DURATION:PT1H
X-Robots-Tag:noindex
X-PUBLISHED-TTL:PT1H
BEGIN:VTIMEZONE
TZID:Europe/Zurich
BEGIN:DAYLIGHT
TZOFFSETFROM:+0100
TZOFFSETTO:+0200
TZNAME:CEST
DTSTART:20220327T010000
END:DAYLIGHT
BEGIN:STANDARD
TZOFFSETFROM:+0200
TZOFFSETTO:+0100
TZNAME:CET
DTSTART:20221030T010000
END:STANDARD
END:VTIMEZONE
BEGIN:VEVENT
DTSTART;TZID=Europe/Zurich:20220428T183000
DTEND;TZID=Europe/Zurich:20220428T203000
DTSTAMP:20220515T073911
CREATED:20220402T230012Z
LAST-MODIFIED:20220402T230012Z
UID:4760-1651170600-1651177800@frontex-referendum.ch
SUMMARY:Frontex und die EU-Abschottungspolitik – Das Beispiel Libyen\, Luzern
DESCRIPTION:Frontex\, Abschottung im Namen der EU: die zentrale Mittelmeerroute \n\n\n\nReferent:innen  \n\n\n\nBritta Rabe (Watch the Med Alarmphone\, Central Med Regional Team)Matthias Monroy (Netzaktivist; Redakteur der Zeitschrift CILIP/Bürgerrechte & Polizei)Ein:e Vertreter:in des eritreischen Medienbundes (wird noch angekündigt)\n\n\nEine Veranstaltung der Infotour «Frontex und die Festung EUropa» von SoSF \n\n\n\n\n\n\n\n\n\n\n\nVeranstalted durch: \n\n\n\nSolidarité sans frontièresEritreischer Medienbund SchweizGrundrechtekomitee e.V. \n\n\n\n\n\nOrt: \n\n\n\nCafé Parterre \n\n\n\nMythenstrasse 76003 Luzern \n\n\n\nGoogle Maps \n\n\n\n\n\n\nZu Kalender hinzufügen:
URL:https://frontex-referendum.ch/fr/event/frontex-und-die-eu-abschottungspolitik-das-beispiel-libyen-luzern/
LOCATION:Café Parterre\, Mythenstrasse 7\, Luzern\, 6003\, Schweiz
CATEGORIES:Infoveranstaltung
END:VEVENT
END:VCALENDAR