BEGIN:VCALENDAR
VERSION:2.0
PRODID:-//Frontex Referendum - ECPv5.14.2.1//NONSGML v1.0//EN
CALSCALE:GREGORIAN
METHOD:PUBLISH
X-WR-CALNAME:Frontex Referendum
X-ORIGINAL-URL:https://frontex-referendum.ch/fr/
X-WR-CALDESC:évènements pour Frontex Referendum
REFRESH-INTERVAL;VALUE=DURATION:PT1H
X-Robots-Tag:noindex
X-PUBLISHED-TTL:PT1H
BEGIN:VTIMEZONE
TZID:Europe/Zurich
BEGIN:DAYLIGHT
TZOFFSETFROM:+0100
TZOFFSETTO:+0200
TZNAME:CEST
DTSTART:20220327T010000
END:DAYLIGHT
BEGIN:STANDARD
TZOFFSETFROM:+0200
TZOFFSETTO:+0100
TZNAME:CET
DTSTART:20221030T010000
END:STANDARD
END:VTIMEZONE
BEGIN:VEVENT
DTSTART;TZID=Europe/Zurich:20220511T150000
DTEND;TZID=Europe/Zurich:20220511T190000
DTSTAMP:20220515T073836
CREATED:20220506T154112Z
LAST-MODIFIED:20220506T155148Z
UID:6300-1652281200-1652295600@frontex-referendum.ch
SUMMARY:Aktion: Abstimmen kollektivieren – Ausschlüsse kritiseren
DESCRIPTION:Gemeinsames Abstimmen zum NoFrontex-Referendum in der Autonomen Schule Luzern: Komm mit oder ohne Abstimmungsunterlagen. Wir stimmen gemeinsam ab\, schreiben zusammen viele NEINs zu Frontex auf den Abstimungszettel. Anschliessend bringen wir die Abstimmungscouverts in einer Demo zur Post und zum Rathaus.  \n\n\n\nWir sind nicht damit einverstanden\, dass über ein Drittel der Schweizer Bevölkerung nicht abstimmen darf. Menschen\, die das NoFrontex-Referendum mitlanciert und getragen haben\, werden von der Abstimmung ausgeschlossen. Wehren wir uns gemeinsam gegen die rassistische\, ausschliessende Schweizer Politik. \n\n\n\nEvent-Website \n\n\n\n\n\n\n\nZeit: \n\n\n\n\n\n\n\nOrt: \n\n\n\nRäZelHorwerstrasse 146005 Luzern \n\n\n\nGoogle Maps \n\n\n\n\n\nVeranstalted durch: \n\n\n\nAutonome Schule Luzern \n\n\n\n\n\n\nZu Kalender hinzufügen:
URL:https://frontex-referendum.ch/fr/event/aktion-abstimmen-kollektivieren-ausschluesse-kritiseren/
LOCATION:RäZel\, Horwerstrasse 14\, Luzern\, 6005\, Schweiz
CATEGORIES:Aktion
END:VEVENT
END:VCALENDAR