BEGIN:VCALENDAR
VERSION:2.0
PRODID:-//Frontex Referendum - ECPv5.14.2.1//NONSGML v1.0//EN
CALSCALE:GREGORIAN
METHOD:PUBLISH
X-WR-CALNAME:Frontex Referendum
X-ORIGINAL-URL:https://frontex-referendum.ch
X-WR-CALDESC:Veranstaltungen für Frontex Referendum
REFRESH-INTERVAL;VALUE=DURATION:PT1H
X-Robots-Tag:noindex
X-PUBLISHED-TTL:PT1H
BEGIN:VTIMEZONE
TZID:Europe/Zurich
BEGIN:DAYLIGHT
TZOFFSETFROM:+0100
TZOFFSETTO:+0200
TZNAME:CEST
DTSTART:20220327T010000
END:DAYLIGHT
BEGIN:STANDARD
TZOFFSETFROM:+0200
TZOFFSETTO:+0100
TZNAME:CET
DTSTART:20221030T010000
END:STANDARD
END:VTIMEZONE
BEGIN:VEVENT
DTSTART;TZID=Europe/Zurich:20220514T190000
DTEND;TZID=Europe/Zurich:20220514T200000
DTSTAMP:20220515T061852
CREATED:20220418T000013Z
LAST-MODIFIED:20220418T000143Z
UID:5720-1652554800-1652558400@frontex-referendum.ch
SUMMARY:Table ronde: « Regards sur la migration »
DESCRIPTION:Dans le cadre d’une exposition de Jean Devost sur le thème de la migration. Table ronde avec la participation de  \n\n\n\nMmes et MM. Rabih Al Fakih\, chef de secteur Afrique dans le Mouvement de la Croix et du Croissant RougeCharles Heller\, cinéaste et chercheur spécialiste des politiques migratoiresSophie Guignard\, secrétaire générale de Solidarité sans frontièresFlorence Nater\, conseillère d’Etat.\n\n\n\nPage de l’événement \n\n\n\nTous les évènements à Neuchâtel (PDF) \n\n\n\n\n\n\n\nQuand: \n\n\n\n\n\n\n\nLieu: \n\n\n\nEspace culturel Bleu de ChineBovet de Chine 32114 Fleurier \n\n\n\nGoogle Maps \n\n\n\n\n\nOrganisée par: \n\n\n\nComité NoFrontex du canton de Neuchâtel \n\n\n\n\n\n\nAjouter au calendrier:
URL:https://frontex-referendum.ch/event/table-ronde-regards-sur-la-migration/
LOCATION:Espace culturel Bleu de Chine\, Bovet de Chine 3\, Fleurier\, 2114\, Schweiz
CATEGORIES:Infoveranstaltung,Kultur
END:VEVENT
END:VCALENDAR