BEGIN:VCALENDAR
VERSION:2.0
PRODID:-//Frontex Referendum - ECPv5.14.2.1//NONSGML v1.0//EN
CALSCALE:GREGORIAN
METHOD:PUBLISH
X-WR-CALNAME:Frontex Referendum
X-ORIGINAL-URL:https://frontex-referendum.ch/en/
X-WR-CALDESC:Events for Frontex Referendum
REFRESH-INTERVAL;VALUE=DURATION:PT1H
X-Robots-Tag:noindex
X-PUBLISHED-TTL:PT1H
BEGIN:VTIMEZONE
TZID:Europe/Zurich
BEGIN:DAYLIGHT
TZOFFSETFROM:+0100
TZOFFSETTO:+0200
TZNAME:CEST
DTSTART:20220327T010000
END:DAYLIGHT
BEGIN:STANDARD
TZOFFSETFROM:+0200
TZOFFSETTO:+0100
TZNAME:CET
DTSTART:20221030T010000
END:STANDARD
END:VTIMEZONE
BEGIN:VEVENT
DTSTART;TZID=Europe/Zurich:20220423T140000
DTEND;TZID=Europe/Zurich:20220423T170000
DTSTAMP:20220515T060057
CREATED:20220410T171709Z
LAST-MODIFIED:20220422T065031Z
UID:5269-1650722400-1650733200@frontex-referendum.ch
SUMMARY:Demo: Boderless solidarity and freedom of movement for all!
DESCRIPTION:No to Frontex on May 15\n\n\n\nOnly a global minority\, who happen to be born in the global North\, have access to passports and visas for unrestricted mobility. The rest of humanity does not enjoy freedom of movement and instead must embark on life-threatening and very expensive travel routes. Some are considered tourists and ex-pats\, while others are considered dangerous migrants or (fake) “refugees”. This inequality has been reinforced since the 1990s by the Schengen Agreement. The Schengen area creates freedom of movement for European people inside\, where freedom of movement for people outside is prevented. \n\n\n\n\n\n\n\nYes to freedom of movement for all\n\n\n\nFreedom of movement for all would mean using the Frontex budget for people\, rather than border violence. It would be an end to the war on migration. People could settle where they wish with dignity and respect. Migration doesn’t have to be illegal – that’s not utopian. What is utopian is thinking that migration can be prevented by force and criminalization in a globalized world. \n\n\n\n\n\n\n\nYes to borderless solidarity and no to racist unequal treatment\n\n\n\nThe Russian war of aggression against Ukraine clearly shows: neither Frontex nor other armies should receive unleashed billions. We need open and safe migration routes. At the border with Ukraine\, Frontex and local border police are engaged in racial profiling. They receive Ukrainian refugees in solidarity while blocking people from other countries. Solidarity with all is needed. We welcome that there seems to be no lack of humanitarian aid at the borders with Ukraine and criticize that Europe withholds similar support in the Mediterranean\, in the Aegean or on the Balkan route. We welcome that the Dublin system has been suspended for Ukrainian refugees and that free onward travel to a European destination state of one’s choice is possible. All refugees need this freedom of movement and settlement! We condemn the racist unequal treatment of the Swiss authorities\, who strongly discriminate against non-Ukrainian refugees in comparison to Ukrainians with status S regarding asylum procedures\, family reunification\, freedom of movement and access to housing\, work\, health\, education. \n\n\n\n\n\n\n\nAll this accelerates the spiral of violence. Borders\, racism and arms races promote mistrust\, competition\, tensions\, conflicts and further wars. We need freedom of movement for all instead of isolation\, a society of solidarity instead of militarization\, lifeboats instead of Frontex.  \n\n\n\nNO to Frontex – also on April 23 at the demonstration in Bern. \n\n\n\n\n\n\n\nMaterial for mobilization\n\n\n\n\n\n\n\n\nFlyer Arabic (PDF) \n\n\n\nFlyer German (PDF) \n\n\n\nFlyer English (PDF)  \n\n\n\nFlyer Farsi (PDF) \n\n\n\nFlyer French (PDF) \n\n\n\n\n\nMobilization package \n\n\n\n\n\n\n\nTime: \n\n\n\n\n\n\n\nPlace: \n\n\n\nBern \n\n\n\nMeeting on the Schützenmatte\, then march to the Bundesplatz \n\n\n\n\n\nGetting there:\n\n\n\nBASEL\n\n\n\nTreffpunkt: 11 Uhr (Treffpunkt wird noch bekannt gegeben) \n\n\n\nFRIBOURG\n\n\n\nRendez-vous : 13h15 à la gare de Fribourg. Dépard du train : 13h34. \n\n\n\nGENÈVE\n\n\n\nRendez-vous : 11h30 devant le Burger King de la Gare Cornavin. \n\n\n\nLAUSANNE\n\n\n\nRendez-vous : 12h44 sur le quai 1 vers tibitsContact : Droit de rester Lausanne \n\n\n\nLUZERN\n\n\n\nTreffpunkt: 11:45 Uhr Inseli Luzern.→ Anmeldung \n\n\n\nNEUCHÂTEL\n\n\n\nRendez-vous : 12h45 dans le hall de la gare de NeuchâtelDépard du train : 13h01 \n\n\n\nZÜRICH\n\n\n\nBus Abfahrt: 11:30 von Carparkplatz beim HauptbahnhofAnmelden mit Name und Anzahl Personen→ nofrontexcar@protonmail.com \n\n\n\n\n\nOrganized by: \n\n\n\nNoFrontex Referendum \n\n\n\n\n\n\nAdd to calendar:
URL:https://frontex-referendum.ch/en/event/demo-boderless-solidarity-and-freedom-of-movement-for-all/
LOCATION:Schützenmatte Bern\, Bollwerk 41\, Bern\, 3011\, Schweiz
CATEGORIES:Action
ORGANIZER;CN="NoFrontex%20Referendum":MAILTO:frontex-referendum@immerda.ch
END:VEVENT
END:VCALENDAR