BEGIN:VCALENDAR
VERSION:2.0
PRODID:-//Frontex Referendum - ECPv5.14.2.1//NONSGML v1.0//EN
CALSCALE:GREGORIAN
METHOD:PUBLISH
X-WR-CALNAME:Frontex Referendum
X-ORIGINAL-URL:https://frontex-referendum.ch/en/
X-WR-CALDESC:Events for Frontex Referendum
REFRESH-INTERVAL;VALUE=DURATION:PT1H
X-Robots-Tag:noindex
X-PUBLISHED-TTL:PT1H
BEGIN:VTIMEZONE
TZID:Europe/Zurich
BEGIN:DAYLIGHT
TZOFFSETFROM:+0100
TZOFFSETTO:+0200
TZNAME:CEST
DTSTART:20220327T010000
END:DAYLIGHT
BEGIN:STANDARD
TZOFFSETFROM:+0200
TZOFFSETTO:+0100
TZNAME:CET
DTSTART:20221030T010000
END:STANDARD
END:VTIMEZONE
BEGIN:VEVENT
DTSTART;TZID=Europe/Zurich:20220506T170000
DTEND;TZID=Europe/Zurich:20220506T210000
DTSTAMP:20220515T073021
CREATED:20220506T155314Z
LAST-MODIFIED:20220506T155315Z
UID:6307-1651856400-1651870800@frontex-referendum.ch
SUMMARY:Aktion: Stimmbüro und Wandgestaltung
DESCRIPTION:Die Abstimmungen zur Frontex-Vorlage\, zum Film- und Transplantationsgesetz sowie zu je einer kantonalen sowie kommunalen Vorlagen stehen am 15. Mai an. Ein Viertel der Schweizer Bevölkerung ist von dieser Mitsprache ausgeschlossen\, weil sie über keinen Schweizer Pass verfügen. \n\n\n\nWir laden deshalb Menschen mit und ohne Stimmrecht erneut in unser Stimmbüro ein\, um ihre Stimme in einem solidarischen Akt zu teilen und so ein Zeichen für ein Stimmrecht für alle zu setzen! \n\n\n\nZum ersten Mal kombinieren wir das Stimmbüro mit einer Wandgestaltung zum Thema «Kreiere deinen Lebensraum! Wie möchtest du wohnen? Wie möchtest du leben? Was brauchst du zu deinem Glück?»\, zu der alle Interessierten eingeladen sind! \n\n\n\nEs ist keine Anmeldung erforderlich. \n\n\n\nWir bieten Übersetzung auf Türkisch und Arabisch an! \n\n\n\n\n\n\n\nProgramm\n\n\n\n17:00 Uhr: Wandgestaltung «Kreiere deinen Lebensraum!»Hilft mit\, die Wand im Zugang zum Gäbelbach neu zu gestalten. Künstlerin Mohena Kühni und Künstler Stefan Maurer helfen dabei.Bitte bringe deine Schmutz- oder Malkleider mit.18:30 Uhr: Präsentation Wandgestaltung\, Apéro & SuppeDie gestalterisch kreierten Lebensräume werden einander bei einem Apéro vorgestellt. Anschliessend gibt es Suppe für alle!19:15 Uhr: StimmbüroHerzliche Einladung an Menschen mit und ohne Wahl- und Stimmrecht\, sich über die Abstimmungen vom 15. Mai auszutauschen und gemeinsam abzustimmen. Menschen mit Wahl- und Stimmrecht teilen ihre Stimme mit Personen ohne Wahl- und Stimmrecht. Abstimmungsunterlagen mitbringen\, wer hat!17–21 Uhr: KinderbetreuungWir bieten eine kostenlose Kinderbetreuung an!\n\n\n\nEvent-Website \n\n\n\n\n\n\n\nZeit: \n\n\n\n\n\n\n\nOrt: \n\n\n\nQuartierzentrum GäbelbachWeiermattstrasse 543027 Bern \n\n\n\nGoogle Maps \n\n\n\n\n\nVeranstalted durch: \n\n\n\nWir alle sind Bern \n\n\n\n\n\n\nZu Kalender hinzufügen:
URL:https://frontex-referendum.ch/en/event/aktion-stimmbuero-und-wandgestaltung/
LOCATION:Quartierzentrum Gäbelbach\, Weiermattstrasse 54\, Bern\, 3027\, Schweiz
CATEGORIES:Aktion
END:VEVENT
END:VCALENDAR